BEGIN:VCALENDAR
VERSION:2.0
PRODID:-//ChamberMaster//Event Calendar 2.0//EN
METHOD:PUBLISH
X-PUBLISHED-TTL:P3D
REFRESH-INTERVAL:P3D
CALSCALE:GREGORIAN
BEGIN:VEVENT
DTSTART:20210211T050000Z
DTEND:20210211T063000Z
X-MICROSOFT-CDO-ALLDAYEVENT:FALSE
SUMMARY:2021 Luncheon Discussion Chargé d'Affaires Michael Heath U.S. Embassy
DESCRIPTION:Luncheon Discussion Charg  d'Affaires Michael Heath\, U.S. Embassy on Thursday 11th February 2021.
X-ALT-DESC;FMTTYPE=text/html:<span style="font-size:9px\;"><span style="font-family:arial\;"><span style="language:en-US\;font-weight:bold\;"><span style="color:black\;">Luncheon Discussion&nbsp\;</span></span><span style="language:en-US\;font-weight:bold\;font-style:normal\;"><span style="color:black\;">Charg&eacute\; d&rsquo\;Affaires Michael Heath\,&nbsp\;</span></span><span style="language:en-US\;font-weight:bold\;"><span style="color:black\;">U.S. Embassy on Thursday 11th February 2021.&nbsp\;</span></span></span></span>
LOCATION:
UID:e.9078.8396
SEQUENCE:3
DTSTAMP:20260420T020344Z
URL:http://memberzone.usasean.org/events/details/2021-luncheon-discussion-charg&#233;-d-affaires-michael-heath-u-s-embassy-8396
END:VEVENT

END:VCALENDAR
