BEGIN:VCALENDAR
VERSION:2.0
PRODID:-//ChamberMaster//Event Calendar 2.0//EN
METHOD:PUBLISH
X-PUBLISHED-TTL:P3D
REFRESH-INTERVAL:P3D
CALSCALE:GREGORIAN
BEGIN:VEVENT
DTSTART;VALUE=DATE:20210405
DTEND;VALUE=DATE:20210407
TRANSP:TRANSPARENT
X-MICROSOFT-CDO-ALLDAYEVENT:TRUE
SUMMARY:2021 HLS Business Mission to Vietnam
DESCRIPTION:2021 HLS Mission to Vietnam\n\n\n\nClick here to register
X-ALT-DESC;FMTTYPE=text/html:2021 HLS Mission to Vietnam<br />\n<br />\n<a href="https://www.usasean.org/bmm">Click here to register</a>
LOCATION:Hanoi
UID:e.9078.8417
SEQUENCE:3
DTSTAMP:20260419T224934Z
URL:http://memberzone.usasean.org/events/details/2021-hls-business-mission-to-vietnam-8417
END:VEVENT

END:VCALENDAR
