BEGIN:VCALENDAR
VERSION:2.0
PRODID:-//ChamberMaster//Event Calendar 2.0//EN
METHOD:PUBLISH
X-PUBLISHED-TTL:P3D
REFRESH-INTERVAL:P3D
CALSCALE:GREGORIAN
BEGIN:VEVENT
DTSTART:20210318T010000Z
DTEND:20210318T020000Z
X-MICROSOFT-CDO-ALLDAYEVENT:FALSE
SUMMARY:2021 HLS Business Mission to Vietnam 1st Planning Call
DESCRIPTION:1st Planning Call for 2021 HLS Industry Mission to Vietnam
X-ALT-DESC;FMTTYPE=text/html:1st Planning Call for 2021 HLS Industry Mission to Vietnam
LOCATION:Zoom Link to be provided
UID:e.9078.8421
SEQUENCE:3
DTSTAMP:20260420T020626Z
URL:http://memberzone.usasean.org/events/details/2021-hls-business-mission-to-vietnam-1st-planning-call-8421
END:VEVENT

END:VCALENDAR
