BEGIN:VCALENDAR
VERSION:2.0
PRODID:-//ChamberMaster//Event Calendar 2.0//EN
METHOD:PUBLISH
X-PUBLISHED-TTL:P3D
REFRESH-INTERVAL:P3D
CALSCALE:GREGORIAN
BEGIN:VEVENT
DTSTART:20210407T010000Z
DTEND:20210407T020000Z
X-MICROSOFT-CDO-ALLDAYEVENT:FALSE
SUMMARY:2021 Fireside chat#1 series: Women in Leadership in the Philippines
DESCRIPTION:Fireside Chat #1: Women in Leadership in the Philippines\n\nGuest Speaker: Senator Pia Cayetano\n\n(Her official bio is available here.)
X-ALT-DESC;FMTTYPE=text/html:Fireside Chat #1: Women in Leadership in the Philippines<br>\nGuest Speaker: Senator Pia Cayetano<br>\n(Her official bio is available <a href="http://legacy.senate.gov.ph/senators/sen_bio/pcayetano_bio.asp">here</a>.)
LOCATION:The program and Zoom details will be provided to registered participants.
UID:e.9078.8438
SEQUENCE:3
DTSTAMP:20260419T224755Z
URL:http://memberzone.usasean.org/events/details/2021-fireside-chat-1-series-women-in-leadership-in-the-philippines-8438
END:VEVENT

END:VCALENDAR
