BEGIN:VCALENDAR
VERSION:2.0
PRODID:-//ChamberMaster//Event Calendar 2.0//EN
METHOD:PUBLISH
X-PUBLISHED-TTL:P3D
REFRESH-INTERVAL:P3D
CALSCALE:GREGORIAN
BEGIN:VEVENT
DTSTART:20211007T010000Z
DTEND:20211007T020000Z
X-MICROSOFT-CDO-ALLDAYEVENT:FALSE
SUMMARY:2021 Energy Briefing with Executive Director of ASEAN Center for Energy
DESCRIPTION:Energy Briefing with Dr. Nuki Agya Utama\, Executive Director of ASEAN Center for Energy.
X-ALT-DESC;FMTTYPE=text/html:Energy Briefing with Dr. Nuki Agya Utama\, Executive Director of ASEAN Center for Energy.
LOCATION:Virtual: Zoom
UID:e.9078.8593
SEQUENCE:3
DTSTAMP:20260419T124447Z
URL:http://memberzone.usasean.org/events/details/2021-energy-briefing-with-executive-director-of-asean-center-for-energy-8593
END:VEVENT

END:VCALENDAR
