BEGIN:VCALENDAR
VERSION:2.0
PRODID:-//ChamberMaster//Event Calendar 2.0//EN
METHOD:PUBLISH
X-PUBLISHED-TTL:P3D
REFRESH-INTERVAL:P3D
CALSCALE:GREGORIAN
BEGIN:VEVENT
DTSTART;VALUE=DATE:20211116
DTEND;VALUE=DATE:20211117
TRANSP:TRANSPARENT
X-MICROSOFT-CDO-ALLDAYEVENT:TRUE
SUMMARY:2021 ASEAN Innovation Series - Session 2
DESCRIPTION:ASEAN Innovation Series - Session 2\n\n\n\n"Innovation for Sustainable COVID-19 Recovery in ASEAN"  \n\n	The role of an efficient regulatory framework in facilitating access to innovation \n	What is the potential for vaccine development within ASEAN? \n	How do we prepare for the next pandemic?  \n	Innovation as a factor in COVID-19 treatment  \n	The future of Digital innovation including 5G development\, IOT and smart cities \n	Intellectual property rights to support innovation \n	Women in innovation
X-ALT-DESC;FMTTYPE=text/html:<u><strong>ASEAN Innovation Series - Session 2</strong></u><br />\n<br />\n<strong><em><span style="font-family:calibri\,sans-serif\;"><span style="font-size:12.0pt\;">&ldquo\;Innovation for Sustainable COVID-19 Recovery in ASEAN&rdquo\;&nbsp\;&nbsp\;</span></span></em></strong>\n<ul>\n	<li><span style="font-size:12.0pt\;">The role of an efficient regulatory framework in facilitating access to innovation&nbsp\;</span></li>\n	<li><span style="font-size:12.0pt\;">What is the potential for vaccine development within ASEAN?&nbsp\;</span></li>\n	<li><span style="font-size:12.0pt\;">How do we prepare for the next pandemic?&nbsp\;&nbsp\;</span></li>\n	<li><span style="font-size:12.0pt\;">Innovation as a factor in COVID-19 treatment&nbsp\;&nbsp\;</span></li>\n	<li><span style="font-size:12.0pt\;">The future of Digital innovation including 5G development\, IOT and smart cities&nbsp\;</span></li>\n	<li><span style="font-size:12.0pt\;">Intellectual property rights to support innovation&nbsp\;</span></li>\n	<li><span style="font-size:12.0pt\;">Women in innovation&nbsp\;</span></li>\n</ul>\n
LOCATION:Virtual
UID:e.9078.8529
SEQUENCE:3
DTSTAMP:20260419T123850Z
URL:http://memberzone.usasean.org/events/details/2021-asean-innovation-series-session-2-8529
END:VEVENT

END:VCALENDAR
