BEGIN:VCALENDAR
VERSION:2.0
PRODID:-//ChamberMaster//Event Calendar 2.0//EN
METHOD:PUBLISH
X-PUBLISHED-TTL:P3D
REFRESH-INTERVAL:P3D
CALSCALE:GREGORIAN
BEGIN:VEVENT
DTSTART:20210120T023000Z
DTEND:20210120T033000Z
X-MICROSOFT-CDO-ALLDAYEVENT:FALSE
SUMMARY:2021 ADGMIN Mission - Second Planning Call
DESCRIPTION:The US-ABC is pleased to invite you to the Second Planning Call for the 2021 Virtual Business Mission to the 1st ADGMIN.
X-ALT-DESC;FMTTYPE=text/html:The US-ABC is pleased to invite you to the Second Planning Call for the 2021 Virtual Business Mission to the 1st ADGMIN.
LOCATION:Dial-in
UID:e.9078.8369
SEQUENCE:3
DTSTAMP:20260420T051701Z
URL:http://memberzone.usasean.org/events/details/2021-adgmin-mission-second-planning-call-8369
END:VEVENT

END:VCALENDAR
