BEGIN:VCALENDAR
VERSION:2.0
PRODID:-//ChamberMaster//Event Calendar 2.0//EN
METHOD:PUBLISH
X-PUBLISHED-TTL:P3D
REFRESH-INTERVAL:P3D
CALSCALE:GREGORIAN
BEGIN:VEVENT
DTSTART:20201215T010000Z
DTEND:20201215T020000Z
X-MICROSOFT-CDO-ALLDAYEVENT:FALSE
SUMMARY:2021 ADGMIN Mission - First Planning Call with Head of ICT Lan\, ASEC
DESCRIPTION:The US-ABC is pleased to invite you to the First Planning Call for the 2021 Virtual Business Mission to the 1st ADGMIN\, featuring a briefing with Head of ASEAN Secretariat's ICT Division Le Quang Lan.
X-ALT-DESC;FMTTYPE=text/html:The US-ABC is pleased to invite you to the First Planning Call for the 2021 Virtual Business Mission to the 1st ADGMIN\, featuring a briefing with Head of ASEAN Secretariat&#39\;s ICT Division Le Quang Lan.
LOCATION:Dial-in
UID:e.9078.8359
SEQUENCE:3
DTSTAMP:20260420T052712Z
URL:http://memberzone.usasean.org/events/details/2021-adgmin-mission-first-planning-call-with-head-of-ict-lan-asec-8359
END:VEVENT

END:VCALENDAR
