BEGIN:VCALENDAR
VERSION:2.0
PRODID:-//ChamberMaster//Event Calendar 2.0//EN
METHOD:PUBLISH
X-PUBLISHED-TTL:P3D
REFRESH-INTERVAL:P3D
CALSCALE:GREGORIAN
BEGIN:VEVENT
DTSTART:20200715T130000Z
DTEND:20200715T140000Z
X-MICROSOFT-CDO-ALLDAYEVENT:FALSE
SUMMARY:2020 Virtual Philippines Business Mission Planning Call #1 with H.E. Jose Manuel Romualdez\, Philippine Ambassador to the United States
DESCRIPTION:Please join us for the first planning call for the 2020 Virtual Philippines Business Mission (Sept 1-4 SGT/Manila).\n\n\n\nDuring the first part of the call\, H.E. Jose Manuel Romualdez\, Philippine Ambassador to the United States\, will provide a briefing on the Philippine Government's economic priorities for 2020 including addressing COVID-19 pandemic along with an update on the current business environment and US-Philippine relations.  A short Q&A will follow Ambassador Romualdez's briefing.  His bio can be found here.    \n\n\n\nThe second part of the call will focus on refining mission themes and meeting targets.  We will also provide answers to any initial logistical questions.  More details on the mission can be found here.  All members who are considering participating in the mission are highly encouraged to join the call.\n\n\n\nIf you have any questions or input for the call\, please contact Lilibeth Almonte-Arbez at lalmonte@usasean.org.
X-ALT-DESC;FMTTYPE=text/html:<span style="background:white\;"><span style="color:#333333\;"><span style="font-family:arial\,sans-serif\;"><span style="font-size:10.0pt\;">Please join us for the first planning call for the&nbsp\;</span></span></span></span><strong style="font-variant-ligatures:normal\;font-variant-caps:normal\;orphans:2\;text-align:start\;widows:2\;-webkit-text-stroke-width:0px\;text-decoration-style:initial\;word-spacing:0px\;"><span style="color:#333333\;"><span style="font-family:arial\,sans-serif\;"><span style="font-size:10.0pt\;"><a href="https://www.usasean.org/mission/registration"><span style="color:#0782C1\;">2020 Virtual Philippines Business Mission (Sept 1-4 SGT/Manila).</span></a></span></span></span></strong><br style="font-variant-ligatures:normal\;font-variant-caps:normal\;orphans:2\;text-align:start\;widows:2\;-webkit-text-stroke-width:0px\;text-decoration-style:initial\;word-spacing:0px\;" />\n<br style="font-variant-ligatures:normal\;font-variant-caps:normal\;orphans:2\;text-align:start\;widows:2\;-webkit-text-stroke-width:0px\;text-decoration-style:initial\;word-spacing:0px\;" />\n<span style="color:#333333\;"><span style="font-family:arial\,sans-serif\;"><span style="font-size:10.0pt\;"><span style="background:white\;"><span style="font-variant-ligatures:normal\;font-variant-caps:normal\;orphans:2\;text-align:start\;widows:2\;-webkit-text-stroke-width:0px\;text-decoration-style:initial\;float:none\;word-spacing:0px\;">During the first part of the call\, H.E. Jose Manuel Romualdez\, Philippine Ambassador to the United States\, will provide a briefing on the Philippine Government&#39\;s economic priorities for 2020 including addressing COVID-19 pandemic along with an update on the current business environment and US-Philippine relations.&nbsp\; A short Q&amp\;A will follow Ambassador Romualdez&#39\;s briefing.&nbsp\;&nbsp\;</span></span></span></span></span><a href="http://www.philippineembassy-usa.org/philippines-dc/embassy-dc/the-ambassador-dc/ambassadors-bio-dc/" style="font-variant-ligatures:normal\;font-variant-caps:normal\;orphans:2\;text-align:start\;widows:2\;-webkit-text-stroke-width:0px\;word-spacing:0px\;"><span style="color:#0782C1\;"><span style="font-family:arial\,sans-serif\;"><span style="font-size:10.0pt\;">His bio can be found here.</span></span></span></a>&nbsp\; &nbsp\;&nbsp\;<br style="font-variant-ligatures:normal\;font-variant-caps:normal\;orphans:2\;text-align:start\;widows:2\;-webkit-text-stroke-width:0px\;text-decoration-style:initial\;word-spacing:0px\;" />\n<br style="font-variant-ligatures:normal\;font-variant-caps:normal\;orphans:2\;text-align:start\;widows:2\;-webkit-text-stroke-width:0px\;text-decoration-style:initial\;word-spacing:0px\;" />\n<span style="color:#333333\;"><span style="font-family:arial\,sans-serif\;"><span style="font-size:10.0pt\;"><span style="background:white\;"><span style="font-variant-ligatures:normal\;font-variant-caps:normal\;orphans:2\;text-align:start\;widows:2\;-webkit-text-stroke-width:0px\;text-decoration-style:initial\;float:none\;word-spacing:0px\;">The second part of the call will focus on refining mission themes and meeting targets.&nbsp\; We will also provide answers to any initial logistical questions.&nbsp\;&nbsp\;</span></span></span></span></span><a href="http://usasean.memberzone.com/events/details/2020-virtual-philippines-business-mission-8135" style="font-variant-ligatures:normal\;font-variant-caps:normal\;orphans:2\;text-align:start\;widows:2\;-webkit-text-stroke-width:0px\;word-spacing:0px\;"><span style="color:#0782C1\;"><span style="font-family:arial\,sans-serif\;"><span style="font-size:10.0pt\;">More details on the mission can be found here.</span></span></span></a><span style="background:white\;"><span style="color:#333333\;"><span style="font-family:arial\,sans-serif\;"><span style="font-size:10.0pt\;"><span style="font-variant-ligatures:normal\;font-variant-caps:normal\;orphans:2\;text-align:start\;widows:2\;-webkit-text-stroke-width:0px\;text-decoration-style:initial\;float:none\;word-spacing:0px\;">&nbsp\; All members who are considering participating in the mission are highly encouraged to join the call.</span></span></span></span></span><br style="font-variant-ligatures:normal\;font-variant-caps:normal\;orphans:2\;text-align:start\;widows:2\;-webkit-text-stroke-width:0px\;text-decoration-style:initial\;word-spacing:0px\;" />\n<br style="font-variant-ligatures:normal\;font-variant-caps:normal\;orphans:2\;text-align:start\;widows:2\;-webkit-text-stroke-width:0px\;text-decoration-style:initial\;word-spacing:0px\;" />\n<span style="color:#333333\;"><span style="font-family:arial\,sans-serif\;"><span style="font-size:10.0pt\;"><span style="background:white\;"><span style="font-variant-ligatures:normal\;font-variant-caps:normal\;orphans:2\;text-align:start\;widows:2\;-webkit-text-stroke-width:0px\;text-decoration-style:initial\;float:none\;word-spacing:0px\;">If you have any questions or input for the call\, please contact Lilibeth Almonte-Arbez at <a href="mailto:lalmonte@usasean.org">lalmonte@usasean.org</a>. &nbsp\;</span></span></span></span></span>
LOCATION:Zoom call details will be provided to registered participants.
UID:e.9078.8242
SEQUENCE:3
DTSTAMP:20260420T124249Z
URL:http://memberzone.usasean.org/events/details/2020-virtual-philippines-business-mission-planning-call-1-with-h-e-jose-manuel-romualdez-philippine-ambassador-to-the-united-states-8242
END:VEVENT

END:VCALENDAR
