BEGIN:VCALENDAR
VERSION:2.0
PRODID:-//ChamberMaster//Event Calendar 2.0//EN
METHOD:PUBLISH
X-PUBLISHED-TTL:P3D
REFRESH-INTERVAL:P3D
CALSCALE:GREGORIAN
BEGIN:VEVENT
DTSTART:20200901T010000Z
DTEND:20200903T160000Z
X-MICROSOFT-CDO-ALLDAYEVENT:FALSE
SUMMARY:2020 Virtual Philippines Business Mission
DESCRIPTION:The US-ASEAN Business Council is registering members for its 2020 Virtual Philippines Business Mission on August 31-September 3 Washington D.C./September 1-4\, 2020 Manila/SGT. This virtual mission will offer members an opportunity to discuss priority trade and investment policy issues with key Philippine Government officials including leading members of the Duterte Cabinet and members of the bicameral Philippine legislature. The virtual mission will be a series of interactive Zoom sessions timed for participants based in Southeast Asia and the United States to be able to join. \n\n\n\nRegistration link: https://www.usasean.org/mission/registration\n\n\n\n\n\n \n\nMission Themes\n\n \n\n                                                                                                                                                                                                                                                                                                \n\nThe Council suggests that the following overarching themes can be used to frame company specific messages and/or policy advocacy reform priorities for this mission:\n\n \n\n	Support response and recovery against COVID-19\n\n \n\n\n	Accelerate digital transformation\n\n \n\n\n	Reinforce US-Philippines bilateral ties for regional peace and prosperity
X-ALT-DESC;FMTTYPE=text/html:<span style="color:black\;"><span style="font-family:arial\,sans-serif\;"><span style="font-size:12.0pt\;">The US-ASEAN Business Council is registering members for its <strong>2020 <strong><span style="font-family:arial\,sans-serif\;">Virtual Philippines Business Mission on August 31-September 3 Washington D.C./September 1-4\, 2020 Manila/SGT.</span></strong></strong>&nbsp\;This virtual mission will offer members an opportunity to discuss priority&nbsp\;trade and investment policy issues with key Philippine Government officials including leading members of the Duterte Cabinet and members of the bicameral Philippine legislature. The virtual mission will be a series of interactive Zoom sessions timed for participants based in Southeast Asia and the United States to be able to join.&nbsp\;</span></span></span><br />\n<br />\n<span style="box-sizing: border-box\; outline: 0px\; font-size: 16px\; color: rgb(0\, 0\, 0)\; font-family: arial\;"><span class="LineBreakBlob BlobObject DragDrop SCXW217735149 BCX0" style="box-sizing: border-box\; outline: 0px\; background-color: transparent\; margin: 0px\; padding: 0px\; user-select: text\; -webkit-user-drag: none\; -webkit-tap-highlight-color: transparent\; line-height: 18px\;"><span class="SCXW217735149 BCX0" style="box-sizing: border-box\; outline: 0px\; margin: 0px\; padding: 0px\; user-select: text\; -webkit-user-drag: none\; -webkit-tap-highlight-color: transparent\; white-space: pre !important\;"><span style="box-sizing: border-box\; outline: 0px\; font-weight: bolder\;">Registration link: </span></span></span></span><span style="box-sizing: border-box\; font-size: 16px\; font-weight: bolder\; color: rgb(0\, 0\, 0)\; font-family: arial\;"><a href="https://www.usasean.org/mission/registration" style="color: rgb(34\, 72\, 132)\; box-sizing: border-box\; background-color: transparent\; text-decoration-line: none\; overflow-wrap: break-word\; outline: 0px\;">https://www.usasean.org/mission/registration</a></span><br />\n<br />\n<br />\n&nbsp\;<br />\n<strong><span style="color:#052F6D\;"><span style="font-family:georgia\,serif\;"><span style="font-size:14.0pt\;">Mission Themes</span></span></span></strong><br />\n&nbsp\;<br />\n&nbsp\; &nbsp\; &nbsp\; &nbsp\; &nbsp\; &nbsp\; &nbsp\; &nbsp\; &nbsp\; &nbsp\; &nbsp\; &nbsp\; &nbsp\; &nbsp\; &nbsp\; &nbsp\; &nbsp\; &nbsp\; &nbsp\; &nbsp\; &nbsp\; &nbsp\; &nbsp\; &nbsp\; &nbsp\; &nbsp\; &nbsp\; &nbsp\; &nbsp\; &nbsp\; &nbsp\; &nbsp\; &nbsp\; &nbsp\; &nbsp\; &nbsp\; &nbsp\; &nbsp\; &nbsp\; &nbsp\; &nbsp\; &nbsp\; &nbsp\; &nbsp\; &nbsp\; &nbsp\; &nbsp\; &nbsp\; &nbsp\; &nbsp\; &nbsp\; &nbsp\; &nbsp\; &nbsp\; &nbsp\; &nbsp\; &nbsp\; &nbsp\; &nbsp\; &nbsp\; &nbsp\; &nbsp\; &nbsp\; &nbsp\; &nbsp\; &nbsp\; &nbsp\; &nbsp\; &nbsp\; &nbsp\; &nbsp\; &nbsp\; &nbsp\; &nbsp\; &nbsp\; &nbsp\; &nbsp\; &nbsp\; &nbsp\; &nbsp\; &nbsp\; &nbsp\; &nbsp\; &nbsp\; &nbsp\; &nbsp\; &nbsp\; &nbsp\; &nbsp\; &nbsp\; &nbsp\; &nbsp\; &nbsp\; &nbsp\; &nbsp\; &nbsp\; &nbsp\; &nbsp\; &nbsp\; &nbsp\; &nbsp\; &nbsp\; &nbsp\; &nbsp\; &nbsp\; &nbsp\; &nbsp\; &nbsp\; &nbsp\; &nbsp\; &nbsp\; &nbsp\; &nbsp\; &nbsp\; &nbsp\; &nbsp\; &nbsp\; &nbsp\; &nbsp\; &nbsp\; &nbsp\; &nbsp\; &nbsp\; &nbsp\; &nbsp\; &nbsp\; &nbsp\; &nbsp\; &nbsp\; &nbsp\; &nbsp\; &nbsp\; &nbsp\; &nbsp\; &nbsp\; &nbsp\; &nbsp\; &nbsp\; &nbsp\; &nbsp\; &nbsp\; &nbsp\; &nbsp\; &nbsp\;&nbsp\;<br />\n<span style="font-family:arial\,sans-serif\;"><span style="font-size:12.0pt\;">The Council suggests that the following overarching themes can be used to frame company specific messages and/or policy advocacy reform priorities for this mission:</span></span><br />\n&nbsp\;\n<ol>\n	<li style="margin-top:0in\;margin-right:0in\;margin-bottom:0in\;margin-bottom:.0001pt\;vertical-align:baseline\;"><strong><span style="font-family:arial\,sans-serif\;"><span style="font-size:12.0pt\;">Support response and recovery&nbsp\;against</span></span></strong>&nbsp\;<strong><span style="font-family:arial\,sans-serif\;"><span style="font-size:12.0pt\;">COVID-19</span></span></strong></li>\n</ol>\n&nbsp\;\n\n<ol>\n	<li style="margin-top:0in\;margin-right:0in\;margin-bottom:0in\;margin-bottom:.0001pt\;vertical-align:baseline\;" value="2"><strong><span style="font-family:arial\,sans-serif\;"><span style="font-size:12.0pt\;">Accelerate digital transformation</span></span></strong></li>\n</ol>\n&nbsp\;\n\n<ol>\n	<li style="margin-top:0in\;margin-right:0in\;margin-bottom:0in\;margin-bottom:.0001pt\;vertical-align:baseline\;" value="3"><strong><span style="font-family:arial\,sans-serif\;"><span style="font-size:12.0pt\;">Reinforce US-Philippines bilateral ties </span></span></strong><strong><span style="font-family:arial\,sans-serif\;"><span style="font-size:12.0pt\;">for regional peace and prosperity</span></span></strong></li>\n</ol>\n
LOCATION:Zoom Virtual Meetings
UID:e.9078.8135
SEQUENCE:3
DTSTAMP:20260420T095421Z
URL:http://memberzone.usasean.org/events/details/2020-virtual-philippines-business-mission-8135
END:VEVENT

END:VCALENDAR
