BEGIN:VCALENDAR
VERSION:2.0
PRODID:-//ChamberMaster//Event Calendar 2.0//EN
METHOD:PUBLISH
X-PUBLISHED-TTL:P3D
REFRESH-INTERVAL:P3D
CALSCALE:GREGORIAN
BEGIN:VEVENT
DTSTART:20200722T033000Z
DTEND:20200722T050000Z
X-MICROSOFT-CDO-ALLDAYEVENT:FALSE
SUMMARY:2020 Virtual Myanmar Business Mission Planning Call with Permanent Secretary U Aung Naing Oo
DESCRIPTION:
X-ALT-DESC;FMTTYPE=text/html:
LOCATION:
UID:e.9078.8253
SEQUENCE:3
DTSTAMP:20260420T130250Z
URL:http://memberzone.usasean.org/events/details/2020-virtual-myanmar-business-mission-planning-call-with-permanent-secretary-u-aung-naing-oo-8253
END:VEVENT

END:VCALENDAR
