BEGIN:VCALENDAR
VERSION:2.0
PRODID:-//ChamberMaster//Event Calendar 2.0//EN
METHOD:PUBLISH
X-PUBLISHED-TTL:P3D
REFRESH-INTERVAL:P3D
CALSCALE:GREGORIAN
BEGIN:VEVENT
DTSTART:20200724T050000Z
DTEND:20200724T050000Z
X-MICROSOFT-CDO-ALLDAYEVENT:FALSE
SUMMARY:2020 Virtual Meeting Series: Indonesia Digital Economy
DESCRIPTION:
X-ALT-DESC;FMTTYPE=text/html:
LOCATION:
UID:e.9078.8260
SEQUENCE:3
DTSTAMP:20260420T130411Z
URL:http://memberzone.usasean.org/events/details/2020-virtual-meeting-series-indonesia-digital-economy-07-24-2020-8260
END:VEVENT

END:VCALENDAR
