BEGIN:VCALENDAR
VERSION:2.0
PRODID:-//ChamberMaster//Event Calendar 2.0//EN
METHOD:PUBLISH
X-PUBLISHED-TTL:P3D
REFRESH-INTERVAL:P3D
CALSCALE:GREGORIAN
BEGIN:VEVENT
DTSTART;VALUE=DATE:20200713
DTEND;VALUE=DATE:20200822
TRANSP:TRANSPARENT
X-MICROSOFT-CDO-ALLDAYEVENT:TRUE
SUMMARY:2020 Virtual Meeting Series: Financial Services
DESCRIPTION:2020 Virtual Meeting Series: ASEAN Ministries of Finance and Central Banks
X-ALT-DESC;FMTTYPE=text/html:2020 Virtual Meeting Series: ASEAN Ministries of Finance and Central Banks
LOCATION:
UID:e.9078.8248
SEQUENCE:3
DTSTAMP:20260424T211014Z
URL:http://memberzone.usasean.org/events/details/2020-virtual-meeting-series-financial-services-8248
END:VEVENT

END:VCALENDAR
