BEGIN:VCALENDAR
VERSION:2.0
PRODID:-//ChamberMaster//Event Calendar 2.0//EN
METHOD:PUBLISH
X-PUBLISHED-TTL:P3D
REFRESH-INTERVAL:P3D
CALSCALE:GREGORIAN
BEGIN:VEVENT
DTSTART:20200723T010000Z
DTEND:20200723T020000Z
X-MICROSOFT-CDO-ALLDAYEVENT:FALSE
SUMMARY:2020 Virtual Meeting Series - 2nd Planning Call for Indonesia Digital Economy
DESCRIPTION:2020 Virtual Meeting Series - Indonesia Digital Economy\n\nThe Second Planning Call
X-ALT-DESC;FMTTYPE=text/html:2020 Virtual Meeting Series - Indonesia Digital Economy<br />\nThe Second Planning Call
LOCATION:
UID:e.9078.8259
SEQUENCE:3
DTSTAMP:20260420T141002Z
URL:http://memberzone.usasean.org/events/details/2020-virtual-meeting-series-2nd-planning-call-for-indonesia-digital-economy-8259
END:VEVENT

END:VCALENDAR
