BEGIN:VCALENDAR
VERSION:2.0
PRODID:-//ChamberMaster//Event Calendar 2.0//EN
METHOD:PUBLISH
X-PUBLISHED-TTL:P3D
REFRESH-INTERVAL:P3D
CALSCALE:GREGORIAN
BEGIN:VEVENT
DTSTART:20200715T010000Z
DTEND:20200715T020000Z
X-MICROSOFT-CDO-ALLDAYEVENT:FALSE
SUMMARY:2020 Virtual Meeting Series - 1st Planning Call for Indonesia Digital Economy
DESCRIPTION:2020 Virtual Meeting Series - Indonesia Digital Economy\n\nThe First Planning Call
X-ALT-DESC;FMTTYPE=text/html:2020 Virtual Meeting Series - Indonesia Digital Economy<br />\nThe First Planning Call
LOCATION:
UID:e.9078.8249
SEQUENCE:3
DTSTAMP:20260420T130338Z
URL:http://memberzone.usasean.org/events/details/2020-virtual-meeting-series-1st-planning-call-for-indonesia-digital-economy-8249
END:VEVENT

END:VCALENDAR
