BEGIN:VCALENDAR
VERSION:2.0
PRODID:-//ChamberMaster//Event Calendar 2.0//EN
METHOD:PUBLISH
X-PUBLISHED-TTL:P3D
REFRESH-INTERVAL:P3D
CALSCALE:GREGORIAN
BEGIN:VEVENT
DTSTART;VALUE=DATE:20200326
DTEND;VALUE=DATE:20200328
TRANSP:TRANSPARENT
X-MICROSOFT-CDO-ALLDAYEVENT:TRUE
SUMMARY:2020 Mission to the ASEAN Finance Ministers and Central Bank Governors Meeting
DESCRIPTION:Mission to the ASEAN Finance Ministers and Central Bank Governors Meeting
X-ALT-DESC;FMTTYPE=text/html:Mission to the ASEAN Finance Ministers and Central Bank Governors Meeting
LOCATION:Ha Long Bay\, Vietnam
UID:e.9078.8119
SEQUENCE:3
DTSTAMP:20260424T055602Z
URL:http://memberzone.usasean.org/events/details/2020-mission-to-the-asean-finance-ministers-and-central-bank-governors-meeting-8119
END:VEVENT

END:VCALENDAR
