BEGIN:VCALENDAR
VERSION:2.0
PRODID:-//ChamberMaster//Event Calendar 2.0//EN
METHOD:PUBLISH
X-PUBLISHED-TTL:P3D
REFRESH-INTERVAL:P3D
CALSCALE:GREGORIAN
BEGIN:VEVENT
DTSTART:20200522T060000Z
DTEND:20200522T070000Z
X-MICROSOFT-CDO-ALLDAYEVENT:FALSE
SUMMARY:2020 Infrastructure Committee Call
DESCRIPTION:The Council is pleased to invite members to join the 2020 Infrastructure Committee Call. The call will discuss member priority issues\, and steps that we can take to adapt to the uncertain climate due to the COVID-19 outbreak.\n\n\n\nThe proposed meeting agenda is as follows:\n\n\n	Welcome Remarks   Amb. Michael Michalak\n	Opening Remarks by Committee leaders\n	COVID-19 Updates and e-Programs:\n	Key Challenges faced by infrastructure companies during COVID-19\n	Individual member responses to COVID-19\n	Brainstorm alternative programs and platforms for the Infrastructure Committee\, proposed topics include:\n	\n		ASEAN Road Safety\n		ASEAN Smart Cities and digital transformation\n		Infrastructure and crisis management/emergency preparedness in ASEAN\n	\n	\n	Discuss possible collaboration opportunities for Infrastructure programs\n	26th ASEAN Transport Ministers Meeting in Brunei:\n	Updates and actions for the 26th ATM in Brunei (November 2020)\n	\n		Committee next steps and activities in preparation for 26th ATM to Brunei\n	\n	\n	Closing Remarks\n\n\nDial in details and updated call agenda will be provided to members upon registration. Please register before COB Wednesday\, May 20 SGT. If you have questions or would like to submit topics for the call\, please contact J-Ren Ong (jong@usasean.org) or Shay Wester (swester@usasean.org).
X-ALT-DESC;FMTTYPE=text/html:<p style="font-size: 16px\;"><span style="font-family: arial\;">The Council is pleased to invite members to join the 2020 Infrastructure Committee Call. The&nbsp\;call will&nbsp\;discuss member priority issues\, and steps that we can take to adapt to the uncertain climate due to the COVID-19 outbreak.<br />\n<br />\nThe proposed meeting agenda is as follows:</span></p>\n\n<ul style="font-size: 16px\; text-align: center\;">\n	<li style="margin-left: 0cm\; text-align: left\;"><strong>Welcome Remarks &ndash\; Amb. Michael Michalak</strong></li>\n	<li style="margin-left: 0cm\; text-align: left\;"><strong>Opening Remarks by Committee leaders</strong></li>\n	<li style="margin-left: 0cm\; text-align: left\;"><strong>COVID-19 Updates and e-Programs:</strong></li>\n	<li style="margin-bottom: 8pt\; margin-left: 18pt\; line-height: 16.8px\; text-align: left\;"><span style="font-size: 12pt\;">Key Challenges faced by infrastructure companies during COVID-19</span></li>\n	<li style="margin-bottom: 8pt\; margin-left: 18pt\; line-height: 16.8px\; text-align: left\;"><span style="font-size: 12pt\;">Individual member responses to COVID-19</span></li>\n	<li style="margin-bottom: 8pt\; margin-left: 18pt\; line-height: 16.8px\; text-align: left\;"><span style="font-size: 12pt\;">Brainstorm alternative programs and platforms for the Infrastructure Committee\, proposed topics include:</span>\n	<ol style="list-style-type: lower-alpha\;">\n		<li style="margin-bottom: 8pt\; margin-left: 0cm\; line-height: 16.8px\;"><span style="font-size: 12pt\;">ASEAN Road Safety</span></li>\n		<li style="margin-bottom: 8pt\; margin-left: 0cm\; line-height: 16.8px\;"><span style="font-size: 12pt\;">ASEAN Smart Cities and digital transformation</span></li>\n		<li style="margin-bottom: 8pt\; margin-left: 0cm\; line-height: 16.8px\;"><span style="font-size: 12pt\;">Infrastructure and crisis management/emergency preparedness in ASEAN</span></li>\n	</ol>\n	</li>\n	<li style="margin-left: 18pt\; text-align: left\;"><span style="font-size: 12pt\;">Discuss possible collaboration opportunities for Infrastructure programs</span></li>\n	<li style="margin-left: 0cm\; text-align: left\;" value="4"><strong>26<sup>th</sup>&nbsp\;ASEAN Transport Ministers Meeting in Brunei:</strong></li>\n	<li style="margin-left: 18pt\; text-align: left\;"><span style="font-size: 12pt\;">Updates and actions for the 26<sup>th&nbsp\;</sup>ATM in Brunei (November 2020)</span>\n	<ul>\n		<li style="margin-bottom: 8pt\; margin-left: 18pt\; line-height: 16.8px\;"><span style="font-size: 12pt\;">Committee next steps and activities in preparation for 26<sup>th</sup>&nbsp\;ATM to Brunei</span></li>\n	</ul>\n	</li>\n	<li style="margin-left: 0cm\; text-align: left\;" value="5"><strong>Closing Remarks</strong></li>\n</ul>\n\n<div style="font-size: 16px\; text-align: justify\;"><span style="font-family: arial\;">Dial in details and updated call agenda will be provided to members upon registration.&nbsp\;Please register before&nbsp\;<strong>COB Wednesday\, May 20 SGT</strong>.&nbsp\;If you have questions or would like to submit topics for the call\, please contact J-Ren Ong (<a href="mailto:jong@usasean.org">jong@usasean.org</a>) or Shay Wester (<a href="mailto:swester@usasean.org">swester@usasean.org</a>).</span></div>\n
LOCATION:
UID:e.9078.8196
SEQUENCE:3
DTSTAMP:20260420T153550Z
URL:http://memberzone.usasean.org/events/details/2020-infrastructure-committee-call-8196
END:VEVENT

END:VCALENDAR
