BEGIN:VCALENDAR
VERSION:2.0
PRODID:-//ChamberMaster//Event Calendar 2.0//EN
METHOD:PUBLISH
X-PUBLISHED-TTL:P3D
REFRESH-INTERVAL:P3D
CALSCALE:GREGORIAN
BEGIN:VEVENT
DTSTART:20201009T010000Z
DTEND:20201009T020000Z
X-MICROSOFT-CDO-ALLDAYEVENT:FALSE
SUMMARY:2020 Indonesia Business Mission Second Planning Call Feat Baker McKenzie
DESCRIPTION:The Council is pleased to invite you to the\n		\n		\n			2020 Indonesia Virtual Business Mission\n\n			\n\n			Second Planning Call\n			 \n			\n		\n		\n			 \n		\n		\n			\n			\n				\n					\n						\n						\n							\n								\n									Dear Members\,\n\n									 \n\n									The Council is looking forward to seeing you at the Second Planning Call for the 2020 Indonesia Virtual Business Mission. The Planning Call will discuss the updates on target meetings\, tentative schedule\, talking points\, CSR reports\, and detailed logistics. \n\n									 \n\n									Deadline registration and meeting material submission in October 5. Please click here to go to the registration (business mission manager) page.\n\n									 \n								\n							\n						\n\n						 \n						\n					\n				\n			\n			CONTACT INFORMATION\n\n			 \n\n			Mega Valentina | Manager\, Indonesia (Washington\, DC)\n\n			Phone: +1 646 988 6747\n\n			Email: mega@usasean.org\n\n			 \n\n			Steven Gunawan | Manager\, Indonesia (Jakarta)\n\n			Phone: +62 852 1791 9998\n\n			Email: sgunawan@usasean.org  \n\n			 \n\n			\n\n			We hope that you can join us!
X-ALT-DESC;FMTTYPE=text/html:<table align="center" border="0" cellpadding="0" cellspacing="0" style="width:650px\;" width="650">\n	<tbody>\n		<tr>\n			<td style="padding:7.5pt 0in 0in 0in\;"><br />\n			<br />\n			<span style="letter-spacing:.75pt\;"><span style="font-family:verdana\,sans-serif\;"><span style="font-size:10.5pt\;">The Council is pleased to invite you to the</span></span></span></td>\n		</tr>\n		<tr>\n			<td style="padding:15.0pt 0in 15.0pt 0in\;"><strong><span style="letter-spacing:.75pt\;"><span style="color:#333333\;"><span style="font-family:arial\,sans-serif\;"><span style="font-size:16.0pt\;">2020 Indonesia Virtual Business Mission<br />\n			<br />\n			Second Planning Call</span></span></span></span></strong>\n			<h2 align="center" style="text-align:center\;">&nbsp\;</h2>\n			</td>\n		</tr>\n		<tr>\n			<td style="padding:0in 0in 0in 0in\;">&nbsp\;</td>\n		</tr>\n		<tr>\n			<td style="padding:0in 0in 0in 0in\;">\n			<table border="0" cellpadding="0" cellspacing="0" style="width:650px\;" width="650">\n				<tbody>\n					<tr>\n						<td style="padding:2.25pt 0in 7.5pt 0in\;">\n						<table align="center" border="0" cellpadding="0" cellspacing="0" style="width:650px\;" width="650">\n							<tbody>\n								<tr>\n									<td style="padding:0in 0in 0in 0in\;"><span style="font-family:arial\,sans-serif\;"><span style="font-size:10.5pt\;">Dear Members\,<br />\n									&nbsp\;</span></span><br />\n									<span style="font-family:arial\,sans-serif\;"><span style="font-size:10.5pt\;">The Council is looking forward to seeing you at&nbsp\;the Second Planning Call for the&nbsp\;2020 Indonesia Virtual Business Mission.&nbsp\;<span style="letter-spacing:.75pt\;">The Planning Call will discuss the updates on&nbsp\;target meetings\, tentative schedule\, talking points\, CSR reports\, and detailed logistics.&nbsp\;</span></span></span><br />\n									&nbsp\;<br />\n									<span style="font-family:arial\,sans-serif\;"><span style="font-size:10.5pt\;">Deadline registration and meeting material submission in <strong><span style="font-family:arial\,sans-serif\;">October 5</span></strong>. Please click here to go to the&nbsp\;<a href="https://protect-us.mimecast.com/s/H3vwC82gwjix0LqT1tsod">registration</a>&nbsp\;(business mission manager) page.</span></span><br />\n									&nbsp\;</td>\n								</tr>\n							</tbody>\n						</table>\n\n						<div style="clear:both\;">&nbsp\;</div>\n						</td>\n					</tr>\n				</tbody>\n			</table>\n			<span style="font-family:arial\,sans-serif\;"><span style="font-size:10.5pt\;"><strong><span style="font-family:arial\,sans-serif\;">CONTACT INFORMATION</span></strong><br />\n			&nbsp\;<br />\n			Mega Valentina | Manager\, Indonesia (Washington\, DC)<br />\n			Phone: +1 646 988 6747<br />\n			Email: <a href="mailto:mega@usasean.org"><span style="text-decoration-line:none\;">mega@usasean.org</span></a></span></span><br />\n			&nbsp\;<br />\n			<span style="font-family:arial\,sans-serif\;"><span style="font-size:10.5pt\;">Steven Gunawan | Manager\, Indonesia (Jakarta)</span></span><br />\n			<span style="font-family:arial\,sans-serif\;"><span style="font-size:10.5pt\;">Phone: +62 852 1791 9998</span></span><br />\n			<span style="font-family:arial\,sans-serif\;"><span style="font-size:10.5pt\;">Email: <a href="mailto:sgunawan@usasean.org">sgunawan@usasean.org</a>&nbsp\;&nbsp\;</span></span><br />\n			&nbsp\;<br />\n			<br />\n			<span style="font-family:arial\,sans-serif\;"><span style="font-size:10.5pt\;">We hope that you can join us!</span></span><br />\n			<br />\n			<br />\n			&nbsp\;</td>\n		</tr>\n	</tbody>\n</table>\n\n<div style="clear:both\;">&nbsp\;</div>\n
LOCATION:
UID:e.9078.8315
SEQUENCE:3
DTSTAMP:20260420T095554Z
URL:http://memberzone.usasean.org/events/details/2020-indonesia-business-mission-second-planning-call-feat-baker-mckenzie-8315
END:VEVENT

END:VCALENDAR
