BEGIN:VCALENDAR
VERSION:2.0
PRODID:-//ChamberMaster//Event Calendar 2.0//EN
METHOD:PUBLISH
X-PUBLISHED-TTL:P3D
REFRESH-INTERVAL:P3D
CALSCALE:GREGORIAN
BEGIN:VEVENT
DTSTART:20201019T010000Z
DTEND:20201019T020000Z
X-MICROSOFT-CDO-ALLDAYEVENT:FALSE
SUMMARY:2020 Indonesia Business Mission Pre-Mission Briefing
DESCRIPTION:
X-ALT-DESC;FMTTYPE=text/html:
LOCATION:
UID:e.9078.8326
SEQUENCE:3
DTSTAMP:20260422T092415Z
URL:http://memberzone.usasean.org/events/details/2020-indonesia-business-mission-pre-mission-briefing-8326
END:VEVENT

END:VCALENDAR
