BEGIN:VCALENDAR
VERSION:2.0
PRODID:-//ChamberMaster//Event Calendar 2.0//EN
METHOD:PUBLISH
X-PUBLISHED-TTL:P3D
REFRESH-INTERVAL:P3D
CALSCALE:GREGORIAN
BEGIN:VEVENT
DTSTART:20200121T013000Z
DTEND:20200121T023000Z
X-MICROSOFT-CDO-ALLDAYEVENT:FALSE
SUMMARY:2020 Health & Life Sciences Committee Workplan Discussion Call
DESCRIPTION:The Council invites members to our upcoming Health & Life Sciences Committee call. The call will discuss the Committee's draft workplan for 2020\, and review members' priority issues. Please note this is dial-in only.\n\n\n\nPlease contact Sunita Kapoor (skapoor@usasean.org) and Thao Nguyen (tnguyen@usasean.org) with any questions.
X-ALT-DESC;FMTTYPE=text/html:<span style="font-family:arial\;"><span style="font-size:16px\;"><span style="color: rgb(68\, 68\, 68)\;">The Council invites members to our upcoming Health &amp\; Life Sciences Committee call. The call will&nbsp\;</span>discuss the Committee&rsquo\;s draft workplan for 2020\, and review members&rsquo\; priority issues<span style="color: rgb(68\, 68\, 68)\;">. Please note this is dial-in only.<br />\n<br />\nPlease contact Sunita Kapoor (skapoor@usasean.org</span>) and&nbsp\;<span style="color: rgb(68\, 68\, 68)\;">Thao Nguyen (tnguyen@usasean.org) with any questions.&nbsp\;</span></span></span>
LOCATION:
UID:e.9078.5351
SEQUENCE:3
DTSTAMP:20260421T133953Z
URL:http://memberzone.usasean.org/events/details/2020-health-life-sciences-committee-workplan-discussion-call-5351
END:VEVENT

END:VCALENDAR
