BEGIN:VCALENDAR
VERSION:2.0
PRODID:-//ChamberMaster//Event Calendar 2.0//EN
METHOD:PUBLISH
X-PUBLISHED-TTL:P3D
REFRESH-INTERVAL:P3D
CALSCALE:GREGORIAN
BEGIN:VEVENT
DTSTART:20200107T013000Z
DTEND:20200107T023000Z
X-MICROSOFT-CDO-ALLDAYEVENT:FALSE
SUMMARY:2020 Food & Agriculture Committee Workplan Discussion Call
DESCRIPTION:The Council invites members to our upcoming Food & Agriculture Committee call. The call will discuss the Committee's draft workplan for 2020\, and review members' priority issues. Please note this is dial-in only.\n\n\n\nPlease contact Sunita Kapoor (skapoor@usasean.org) and Thao Nguyen (tnguyen@usasean.org) with any questions.
X-ALT-DESC;FMTTYPE=text/html:<span style="font-family:arial\;"><span style="font-size:16px\;"><span style="color: rgb(68\, 68\, 68)\;">The Council invites members to our upcoming Food &amp\; Agriculture Committee call. The call will </span>discuss the Committee&rsquo\;s draft workplan for 2020\, and review members&rsquo\; priority issues<span style="color: rgb(68\, 68\, 68)\;">. Please note this is dial-in only.</span><br style="box-sizing: content-box\; bottom: auto\; clear: none\; color: rgb(68\, 68\, 68)\; content: normal\; direction: inherit\; display: inline\; empty-cells: show\; float: none\; font-variant-numeric: inherit\; font-variant-east-asian: inherit\; font-stretch: inherit\; font-size: 14px\; font-family: Arial\, Helvetica\, sans-serif\; left: auto\; line-height: inherit\; margin: 0px\; max-height: none\; max-width: none\; min-height: initial\; min-width: initial\; opacity: 1\; outline-offset: 0px\; overflow: visible\; padding: 0px\; position: static\; resize: none\; right: auto\; table-layout: auto\; text-overflow: clip\; top: auto\; vertical-align: baseline\; visibility: inherit\; word-break: inherit\; overflow-wrap: inherit\; z-index: auto\; background-image: none\; background-position: initial\; background-size: initial\; background-repeat: initial\; background-attachment: initial\; background-origin: initial\; background-clip: initial\; border: none\; border-collapse: separate\; border-radius: 0px\; height: auto\; width: auto\;" />\n<br style="box-sizing: content-box\; bottom: auto\; clear: none\; color: rgb(68\, 68\, 68)\; content: normal\; direction: inherit\; display: inline\; empty-cells: show\; float: none\; font-variant-numeric: inherit\; font-variant-east-asian: inherit\; font-stretch: inherit\; font-size: 14px\; font-family: Arial\, Helvetica\, sans-serif\; left: auto\; line-height: inherit\; margin: 0px\; max-height: none\; max-width: none\; min-height: initial\; min-width: initial\; opacity: 1\; outline-offset: 0px\; overflow: visible\; padding: 0px\; position: static\; resize: none\; right: auto\; table-layout: auto\; text-overflow: clip\; top: auto\; vertical-align: baseline\; visibility: inherit\; word-break: inherit\; overflow-wrap: inherit\; z-index: auto\; background-image: none\; background-position: initial\; background-size: initial\; background-repeat: initial\; background-attachment: initial\; background-origin: initial\; background-clip: initial\; border: none\; border-collapse: separate\; border-radius: 0px\; height: auto\; width: auto\;" />\n<span style="color: rgb(68\, 68\, 68)\;">Please contact Sunita Kapoor (</span>skapoor@usasean.org<span style="color: rgb(68\, 68\, 68)\;">) and Thao Nguyen (tnguyen@usasean.org) with any questions.&nbsp\;</span></span></span>
LOCATION:
UID:e.9078.8095
SEQUENCE:3
DTSTAMP:20260421T133950Z
URL:http://memberzone.usasean.org/events/details/2020-food-agriculture-committee-workplan-discussion-call-8095
END:VEVENT

END:VCALENDAR
