BEGIN:VCALENDAR
VERSION:2.0
PRODID:-//ChamberMaster//Event Calendar 2.0//EN
METHOD:PUBLISH
X-PUBLISHED-TTL:P3D
REFRESH-INTERVAL:P3D
CALSCALE:GREGORIAN
BEGIN:VEVENT
DTSTART;VALUE=DATE:20191203
DTEND;VALUE=DATE:20191206
TRANSP:TRANSPARENT
X-MICROSOFT-CDO-ALLDAYEVENT:TRUE
SUMMARY:2019 Indonesia Business Mission
DESCRIPTION:Dear Members\,\n\n \n\nThe US-ASEAN Business Council (US-ABC) is registering senior-level executives for our Indonesia Business Mission. The Mission consists of bilateral meetings with senior government officials ranging from President Joko Widodo?s Cabinet (Kabinet Indonesia Maju)\, Executive Office of the President\, regulatory-making institutions to the Parliament (DPR).\n\n \n\nA one-day Business Mission to the ASEAN Secretariat will precede the Indonesia Business Mission\, on December 2\, 2019. Click here to register. Please contact mmasaya@usasean.org for more information \n\n\n\nTHEMES\n\n \n\nAs several new cabinet members will be taking their posts and President Joko Widodo begins his second term\, the US-ABC 2019 Indonesia Business Mission will be a prime opportunity to introduce your company and investment goals\, as well as position US-ABC members as a resource to the new government.\n\n \n\nUS-ABC proposes three overarching themes below to formulate discussion agendas and frame the advocacy recommendations across all sectors\, in relation to key elements in President Jokowi's One Century Indonesia (vision on Indonesia 2045):\n\n \n\n	Reconstructing a more solid and positive B2G engagement \n\nEstablishing a positive first impression of the U.S. business community. Growing a mutual symbiosis in the relationship with the GOI\, based on the notion of the U.S business community as an investor\, resource\, and job-creating partner of the administration\n\n\n	Establishing a platform for an efficient\, effective\, and competitive regulatory environment\n\nHighlighting policy\, laws\, and challenges in relation to FDI\, trade\, human capital\, and SME development. Harmonizing standards\, regulations\, and conformity assessments to increase global and regional competitiveness\n\n\n	Enhancing a Competitive and Sustainable Ecosystem to Support Development \n\nOffering recommendations and initiatives to improve the quality of Indonesia?s local business ecosystems\, in order to support growth in high-value jobs and expanding access to innovative technologies.\n\n                                                                                                                                             \n\nSpecifically\, the mission will bring various topics to the table\, including:\n\n\n	Data governance\n	Halal laws\n	Taxation \n	Labor and employment\n	Trade facilitation (custom\, import\, etc.)\n	Incentivizing technology transfer\n	Healthcare access\n\n \n\nPROPOSED MEETINGS\n\n\n	President of the Republic of Indonesia\n	Vice President of the Republic of Indonesia\n	Coordinating Minister for Economic Affairs\n	Coordinating Minister for Maritime Affairs and Investment\n	Coordinating Minister for Political\, Legal and Security Affairs\n	Minister of Finance\n	Minister of Trade \n	Minister of Communications and Informatics\n	Ministry of Energy and Mineral Resources\n	Minister of Industry            \n	Minister of Health\n	Minister of Law and Human Rights  \n	Minister of Manpower       \n	Minister for National Development Planning (BAPPENAS)         \n	Minister of Tourism and Creative Economy\n	Minister of Home Affairs\n	Minister of Religious Affairs\n	Minister of Education\n	Cabinet Secretary\n	Governor of Bank Indonesia\n	Chairman of Financial Services Authority (OJK)\n	Chairman of the Investment Coordinating Board (BKPM)\n	Head of the Halal Product Assurance Implementing Body (BPJPH)\n	Head of Cyber Security and Encryption Agency (BSSN) through Coordinating Ministry of Political\, Legal and Security Affairs\n	Parliament (DPR)\n	U.S. Ambassador to Indonesia and U.S. Embassy Team\n	Governors of Jakarta\, West Java\, and Central Java\n\n \n\nWhen filling out the registration\, please rank the meetings based on the importance and outline your talking points. The Council will work with each delegation to frame their talking points that work best for the delegates and regulators. The talking points should be framed as either:\n\n\n	Noting a business success\;\n	Clarification or request for more information\;\n	Identifying a policy or regulatory challenge and requesting a follow-up\;\n	or Noting a capability\, product or service which could solve a challenge\n\n \n\nAdditional meetings can be requested with enough interest (at least 5-6 companies) and subject to the official's availability.\n\n \n\n\n\nCSR PROMOTION\n\n \n\nTo highlight U-ABC members? Corporate Social Responsibility initiatives\, we will publish the annual CSR report. All materials must be submitted using the template on the Business Mission Manager by November 19. We also welcome submissions from members who do not join the Mission.
X-ALT-DESC;FMTTYPE=text/html:<div style="clear:both\;"><span style="font-size:10.0pt\;">Dear Members\,</span><br />\n&nbsp\;<br />\n<span style="font-size:10.0pt\;">The US-ASEAN Business Council (US-ABC) is registering senior-level executives for our Indonesia Business Mission. The Mission consists of bilateral meetings with senior government officials ranging from President Joko Widodo?s Cabinet (Kabinet Indonesia Maju)\, Executive Office of the President\, regulatory-making institutions to the Parliament (DPR).</span><br />\n&nbsp\;<br />\n<span style="font-size:10.0pt\;">A one-day Business Mission to the ASEAN Secretariat will precede the Indonesia Business Mission\, on December 2\, 2019. </span><a href="https://www.usasean.org/mission/registration"><span style="font-size:10.0pt\;">Click here to register</span></a><span style="font-size:10.0pt\;">. </span><span style="font-size:10.0pt\;">Please contact </span><a href="mailto:mmasaya@usasean.org"><span style="font-size:10.0pt\;">mmasaya@usasean.org</span></a><span style="font-size:10.0pt\;"> for more information</span>&nbsp\;<br />\n<br />\n<strong><span style="font-size:12.0pt\;">THEMES</span></strong><br />\n&nbsp\;<br />\n<span style="font-size:10.0pt\;">As several new cabinet members will be taking their posts and President Joko Widodo begins his second term\, the US-ABC 2019 Indonesia Business Mission will be a prime opportunity to introduce your company and investment goals\, as well as position US-ABC members as a resource to the new government.</span><br />\n&nbsp\;<br />\n<span style="font-size:10.0pt\;">US-ABC proposes three overarching themes below to formulate discussion agendas and frame the advocacy recommendations across all sectors\, in relation to key elements in President Jokowi&#39\;s </span><span style="font-size:10.0pt\;">One Century Indonesia</span><span style="font-size:10.0pt\;"> (</span><span style="font-size:10.0pt\;">vision on Indonesia 2045)</span>:<br />\n&nbsp\;\n<ol>\n	<li style="text-align:justify\;"><strong><span style="font-size:10.0pt\;">Reconstructing a more solid and positive B2G engagement </span></strong></li>\n</ol>\n<span style="font-size:10.0pt\;">Establishing a positive first impression of the U.S. business community. Growing a mutual&nbsp\;symbiosis in the relationship with the GOI\, based on the notion of the U.S business community as an&nbsp\;investor\, resource\, and job-creating partner of the administration</span>\n\n<ol>\n	<li style="text-align:justify\;" value="2"><strong><span style="font-size:10.0pt\;">Establishing a platform for </span></strong><strong><span style="font-size:10.0pt\;">an efficient\, effective\, and competitive</span></strong><span style="font-size:10.0pt\;"> <strong>regulatory environment</strong></span></li>\n</ol>\n<span style="font-size:10.0pt\;">Highlighting policy\, laws\, and challenges in relation to FDI\, trade\, human capital\, and SME development. Harmonizing standards\, regulations\, and conformity assessments to increase global and regional competitiveness</span>\n\n<ol>\n	<li style="text-align:justify\;" value="3"><strong><span style="font-size:10.0pt\;">Enhancing a Competitive and Sustainable Ecosystem to Support Development </span></strong></li>\n</ol>\n<span style="font-size:10.0pt\;">Offering recommendations and&nbsp\;initiatives to improve the quality of Indonesia?s local business&nbsp\;ecosystems\, in order&nbsp\;to support growth in high-value jobs and expanding access to innovative technologies.</span><br />\n&nbsp\;&nbsp\;&nbsp\;&nbsp\;&nbsp\;&nbsp\;&nbsp\;&nbsp\;&nbsp\;&nbsp\;&nbsp\;&nbsp\;&nbsp\;&nbsp\;&nbsp\;&nbsp\;&nbsp\;&nbsp\;&nbsp\;&nbsp\;&nbsp\;&nbsp\;&nbsp\;&nbsp\;&nbsp\;&nbsp\;&nbsp\;&nbsp\;&nbsp\;&nbsp\;&nbsp\;&nbsp\;&nbsp\;&nbsp\;&nbsp\;&nbsp\;&nbsp\;&nbsp\;&nbsp\;&nbsp\;&nbsp\;&nbsp\;&nbsp\;&nbsp\;&nbsp\;&nbsp\;&nbsp\;&nbsp\;&nbsp\;&nbsp\;&nbsp\;&nbsp\;&nbsp\;&nbsp\;&nbsp\;&nbsp\;&nbsp\;&nbsp\;&nbsp\;&nbsp\;&nbsp\;&nbsp\;&nbsp\;&nbsp\;&nbsp\;&nbsp\;&nbsp\;&nbsp\;&nbsp\;&nbsp\;&nbsp\;&nbsp\;&nbsp\;&nbsp\;&nbsp\;&nbsp\;&nbsp\;&nbsp\;&nbsp\;&nbsp\;&nbsp\;&nbsp\;&nbsp\;&nbsp\;&nbsp\;&nbsp\;&nbsp\;&nbsp\;&nbsp\;&nbsp\;&nbsp\;&nbsp\;&nbsp\;&nbsp\;&nbsp\;&nbsp\;&nbsp\;&nbsp\;&nbsp\;&nbsp\;&nbsp\;&nbsp\;&nbsp\;&nbsp\;&nbsp\;&nbsp\;&nbsp\;&nbsp\;&nbsp\;&nbsp\;&nbsp\;&nbsp\;&nbsp\;&nbsp\;&nbsp\;&nbsp\;&nbsp\;&nbsp\;&nbsp\;&nbsp\;&nbsp\;&nbsp\;&nbsp\;&nbsp\;&nbsp\;&nbsp\;&nbsp\;&nbsp\;&nbsp\;&nbsp\;&nbsp\;&nbsp\;&nbsp\;&nbsp\;&nbsp\;&nbsp\;&nbsp\;&nbsp\;&nbsp\;&nbsp\;&nbsp\;<br />\n<span style="font-size:10.0pt\;">Specifically\, the mission will bring various topics to the table\, including:</span>\n\n<ul>\n	<li style="text-align:justify\;"><span style="font-size:10.0pt\;">Data governance</span></li>\n	<li style="text-align:justify\;"><span style="font-size:10.0pt\;">Halal laws</span></li>\n	<li style="text-align:justify\;"><span style="font-size:10.0pt\;">Taxation </span></li>\n	<li style="text-align:justify\;"><span style="font-size:10.0pt\;">Labor and employment</span></li>\n	<li style="text-align:justify\;"><span style="font-size:10.0pt\;">Trade facilitation (custom\, import\, etc.)</span></li>\n	<li style="text-align:justify\;"><span style="font-size:10.0pt\;">Incentivizing technology transfer</span></li>\n	<li style="text-align:justify\;"><span style="font-size:10.0pt\;">Healthcare access</span></li>\n</ul>\n&nbsp\;<br />\n<strong><span style="font-size:12.0pt\;">PROPOSED MEETINGS</span></strong>\n\n<ol>\n	<li style="text-align:justify\;"><span style="font-size:10.0pt\;">President of the Republic of Indonesia</span></li>\n	<li style="text-align:justify\;"><span style="font-size:10.0pt\;">Vice President of the Republic of Indonesia</span></li>\n	<li style="text-align:justify\;"><span style="font-size:10.0pt\;">Coordinating Minister for Economic Affairs</span></li>\n	<li style="text-align:justify\;"><span style="font-size:10.0pt\;">Coordinating Minister for Maritime Affairs and Investment</span></li>\n	<li style="text-align:justify\;"><span style="font-size:10.0pt\;">Coordinating Minister for Political\, Legal and Security Affairs</span></li>\n	<li><span style="font-size:10.0pt\;">Minister of Finance</span></li>\n	<li><span style="font-size:10.0pt\;">Minister of Trade </span></li>\n	<li><span style="font-size:10.0pt\;">Minister of Communications and Informatics</span></li>\n	<li><span style="font-size:10.0pt\;">Ministry of Energy and Mineral Resources</span></li>\n	<li><span style="font-size:10.0pt\;">Minister of Industry&nbsp\;&nbsp\;&nbsp\;&nbsp\;&nbsp\;&nbsp\;&nbsp\;&nbsp\;&nbsp\;&nbsp\;&nbsp\; </span></li>\n	<li><span style="font-size:10.0pt\;">Minister of Health</span></li>\n	<li><span style="font-size:10.0pt\;">Minister of Law and Human Rights&nbsp\; </span></li>\n	<li><span style="font-size:10.0pt\;">Minister of Manpower&nbsp\;&nbsp\;&nbsp\;&nbsp\;&nbsp\;&nbsp\; </span></li>\n	<li><span style="font-size:10.0pt\;">Minister for National Development Planning (BAPPENAS)&nbsp\;&nbsp\;&nbsp\;&nbsp\;&nbsp\;&nbsp\;&nbsp\;&nbsp\; </span></li>\n	<li><span style="font-size:10.0pt\;">Minister of Tourism and Creative Economy</span></li>\n	<li><span style="font-size:10.0pt\;">Minister of Home Affairs</span></li>\n	<li><span style="font-size:10.0pt\;">Minister of Religious Affairs</span></li>\n	<li><span style="font-size:10.0pt\;">Minister of Education</span></li>\n	<li><span style="font-size:10.0pt\;">Cabinet Secretary</span></li>\n	<li><span style="font-size:10.0pt\;">Governor of Bank Indonesia</span></li>\n	<li><span style="font-size:10.0pt\;">Chairman of Financial Services Authority (OJK)</span></li>\n	<li><span style="font-size:10.0pt\;">Chairman of the Investment Coordinating Board (BKPM)</span></li>\n	<li><span style="font-size:10.0pt\;">Head of the Halal Product Assurance Implementing Body (BPJPH)</span></li>\n	<li><span style="font-size:10.0pt\;">Head of Cyber Security and Encryption Agency (BSSN) through Coordinating Ministry of Political\, Legal and Security Affairs</span></li>\n	<li><span style="font-size:10.0pt\;">Parliament (DPR)</span></li>\n	<li><span style="font-size:10.0pt\;">U.S. Ambassador to Indonesia and U.S. Embassy Team</span></li>\n	<li><span style="font-size:10.0pt\;">Governors of Jakarta\, West Java\,<a name="_GoBack"></a> and Central Java</span></li>\n</ol>\n&nbsp\;<br />\n<span style="font-size:10.0pt\;">When filling out the registration\, please rank the meetings based on the importance and outline your talking points. The Council will work with each delegation to frame their talking points that work best for the delegates and regulators. The talking points should be framed as either:</span>\n\n<ol>\n	<li style="text-align:justify\;"><span style="font-size:10.0pt\;">Noting a business success\;</span></li>\n	<li style="text-align:justify\;"><span style="font-size:10.0pt\;">Clarification or request for more information\;</span></li>\n	<li style="text-align:justify\;"><span style="font-size:10.0pt\;">Identifying a policy or regulatory challenge and requesting a follow-up\;</span></li>\n	<li style="text-align:justify\;"><span style="font-size:10.0pt\;">or Noting a capability\, product or service which could solve a challenge</span></li>\n</ol>\n&nbsp\;<br />\n<span style="font-size:10.0pt\;">Additional meetings can be requested with enough interest (at least 5-6 companies) and subject to the official&#39\;s availability.</span><br />\n&nbsp\;<br />\n<br />\n<strong><span style="font-size:12.0pt\;">CSR PROMOTION</span></strong><br />\n&nbsp\;<br />\n<span style="font-size:10.0pt\;">To highlight U-ABC members? Corporate Social Responsibility&nbsp\;initiatives\, we will publish the&nbsp\;annual CSR report.&nbsp\;All materials must be submitted using the template on the Business Mission Manager&nbsp\;by <strong>November 19.</strong> We also welcome submissions from members who do&nbsp\;not&nbsp\;join the Mission.&nbsp\;</span><br />\n&nbsp\;</div>\n
LOCATION:Fairmont Hotel. Booking form with special rate for this mission was attached to the "REMINDER INVITATION" email. Let us know if you need us to resend it to you.
UID:e.9078.8047
SEQUENCE:3
DTSTAMP:20260424T183144Z
URL:http://memberzone.usasean.org/events/details/2019-indonesia-business-mission-8047
END:VEVENT

END:VCALENDAR
