BEGIN:VCALENDAR
VERSION:2.0
PRODID:-//ChamberMaster//Event Calendar 2.0//EN
METHOD:PUBLISH
X-PUBLISHED-TTL:P3D
REFRESH-INTERVAL:P3D
CALSCALE:GREGORIAN
BEGIN:VEVENT
DTSTART;VALUE=DATE:20190908
DTEND;VALUE=DATE:20190911
TRANSP:TRANSPARENT
X-MICROSOFT-CDO-ALLDAYEVENT:TRUE
SUMMARY:2019 Business Mission to ASEAN Economic Ministers' (AEM) Meeting
DESCRIPTION:The US-ASEAN Business Council is now registering executives for its Business Mission to the 51st ASEAN Economic Ministers' (AEM) Meeting in Bangkok\, Thailand. The mission will take place Sunday\, September 8\, to Tuesday\, September 10\, and will consist of bilateral meetings with ASEAN Economic Ministers\, as well as U.S. Government officials from the Office of the U.S. Trade Representative (USTR)\, the U.S. Mission to ASEAN\, and the U.S. Embassy in Thailand. The Council will also present its recommendations on how to deepen economic integration in ASEAN during the annual AEM-USTR consultation. \n\n\n\nSuggested delegate arrival/departure times may be slightly adjusted according to the AEM official schedule\, once released.\n\n\n\nThe deadline for registration and submission of materials is Sunday\, August 25.\n\n\n\nMission Meetings:  \n\n \n\nThe following meetings have been proposed:\n\n	Ministry of Finance and Economy (MOFE) - Brunei Darussalam\n	Ministry of Commerce (MOC) - Cambodia\n	Ministry of Trade (MOT) - Indonesia\n	Ministry of Industry and Commerce (MOIC) - Lao PDR\n	Ministry of International Trade and Industry (MITI) - Malaysia\n	Ministry of Planning and Finance (MOPF) - Myanmar\n	Department of Trade and Industry (DTI) - Philippines\n	Ministry of Trade and Industry (MTI) - Singapore\n	Ministry of Commerce (MOC) - Thailand\n	Ministry of Industry and Trade (MOIT) - Vietnam\n	ASEAN Secretariat\n	Office of the U.S. Trade Representative (USTR)\n	U.S. Mission to ASEAN\n	U.S. Embassy in Thailand\n	ASEAN Business Advisory Council (ASEAN-BAC) Thailand\n\nAdditional meetings can be requested per mission delegates' interests and the officials' availability. Please note that we must have sufficient interest from mission delegates before requesting additional meetings.\n\n\n\nMission Themes:\n\n\n\nWe propose that this year's mission themes and discussion topics reflect the recommendations in the ASEAN Economic Community (AEC) white paper\, which the Council's ASEAN Committee is currently drafting. The Council will share the white paper with member companies once the first draft is finished. In general\, the white paper's themes focus on:\n\n\n	In response to the current uncertainties in global trade\, advocating for the rapid realization of an ASEAN Single Market and identifying key reforms to help achieve this goal\;\n	Positioning U.S. companies as crucial partners in driving economic integration due to best-in-class thought leadership\, capacity building insight and experience\, and corporate social responsibility efforts\;\n	Ensuring consistent stakeholder engagement on cross-sector issues such as e-commerce\, standards\, trade facilitation\, and smart cities. \n\nMission participants can propose other mission themes or discussion topics. To do so\, please contact Riley Smith (rsmith@usasean.org) and Mario Masaya (mmasaya@usasean.org). Proposed themes and discussion topics will also be discussed during the pre-mission planning call.\n\n\n\nClick here to register for the mission.
X-ALT-DESC;FMTTYPE=text/html:<span style="font-family:arial\,sans-serif\;"><span style="font-size:12.0pt\;">The US-ASEAN Business Council is now registering executives for its Business Mission to the 51<sup>st</sup>&nbsp\;ASEAN Economic Ministers&#39\; (AEM) Meeting in Bangkok\, Thailand. <strong>The mission will take place <u>Sunday\, September 8\, to Tuesday\, September 10</u></strong>\, and will consist of bilateral meetings with ASEAN Economic Ministers\, as well as U.S. Government officials from the Office of the U.S. Trade Representative (USTR)\, the U.S. Mission to ASEAN\, and the U.S. Embassy in Thailand. The Council will also present its recommendations on how to deepen economic integration in ASEAN during the annual AEM-USTR consultation.&nbsp\;<br />\n<br />\n<em>Suggested delegate arrival/departure times may be slightly adjusted according to the AEM official schedule\, once released.</em><br />\n<br />\n<strong><span style="color:red\;">The deadline for registration and submission of materials is Sunday\, August 25.</span></strong></span></span><br />\n<br />\n<strong><u><span style="font-family:arial\,sans-serif\;"><span style="font-size:12.0pt\;">Mission Meetings:</span></span></u></strong>&nbsp\;<span style="font-family:arial\,sans-serif\;"><span style="font-size:12.0pt\;">&nbsp\;<br />\n&nbsp\;<br />\nThe following meetings have been proposed:</span></span>\n<ul>\n	<li><strong><em><span style="font-family:arial\,sans-serif\;"><span style="font-size:12.0pt\;">Ministry of Finance&nbsp\;and Economy&nbsp\;(MOFE)</span></span></em></strong> <span style="font-family:arial\,sans-serif\;"><span style="font-size:12.0pt\;">- Brunei Darussalam</span></span></li>\n	<li><strong><em><span style="font-family:arial\,sans-serif\;"><span style="font-size:12.0pt\;">Ministry of Commerce (MOC)</span></span></em></strong><span style="font-family:arial\,sans-serif\;"><span style="font-size:12.0pt\;"> - Cambodia</span></span></li>\n	<li><em><strong><span style="font-family:arial\,sans-serif\;"><span style="font-size:12.0pt\;">Ministry of Trade (MOT)</span></span></strong></em> <span style="font-family:arial\,sans-serif\;"><span style="font-size:12.0pt\;">- Indonesia</span></span></li>\n	<li><strong><em><span style="font-family:arial\,sans-serif\;"><span style="font-size:12.0pt\;">Ministry of Industry and Commerce&nbsp\;(MOIC)</span></span></em></strong><span style="font-family:arial\,sans-serif\;"><span style="font-size:12.0pt\;"> - Lao PDR</span></span></li>\n	<li><strong><em><span style="font-family:arial\,sans-serif\;"><span style="font-size:12.0pt\;">Ministry of International Trade and Industry&nbsp\;(MITI)</span></span></em></strong><span style="font-family:arial\,sans-serif\;"><span style="font-size:12.0pt\;"> - Malaysia</span></span></li>\n	<li><strong><em><span style="font-family:arial\,sans-serif\;"><span style="font-size:12.0pt\;">Ministry of Planning and Finance (MOPF)</span></span></em></strong><span style="font-family:arial\,sans-serif\;"><span style="font-size:12.0pt\;">&nbsp\;- Myanmar</span></span></li>\n	<li><strong><em><span style="font-family:arial\,sans-serif\;"><span style="font-size:12.0pt\;">Department of Trade and Industry&nbsp\;(DTI)</span></span></em></strong><span style="font-family:arial\,sans-serif\;"><span style="font-size:12.0pt\;"> - Philippines</span></span></li>\n	<li><strong><em><span style="font-family:arial\,sans-serif\;"><span style="font-size:12.0pt\;">Ministry of Trade and Industry (MTI)</span></span></em></strong><span style="font-family:arial\,sans-serif\;"><span style="font-size:12.0pt\;"> -&nbsp\;Singapore</span></span></li>\n	<li><strong><em><span style="font-family:arial\,sans-serif\;"><span style="font-size:12.0pt\;">Ministry of Commerce (MOC)</span></span></em></strong><span style="font-family:arial\,sans-serif\;"><span style="font-size:12.0pt\;"> - Thailand</span></span></li>\n	<li><strong><em><span style="font-family:arial\,sans-serif\;"><span style="font-size:12.0pt\;">Ministry of Industry and Trade (MOIT)</span></span></em></strong><span style="font-family:arial\,sans-serif\;"><span style="font-size:12.0pt\;"> - Vietnam</span></span></li>\n	<li><strong><em><span style="font-family:arial\,sans-serif\;"><span style="font-size:12.0pt\;">ASEAN Secretariat</span></span></em></strong></li>\n	<li><strong><em><span style="font-family:arial\,sans-serif\;"><span style="font-size:12.0pt\;">Office of the U.S. Trade Representative (USTR)</span></span></em></strong></li>\n	<li><strong><em><span style="font-family:arial\,sans-serif\;"><span style="font-size:12.0pt\;">U.S. Mission to ASEAN</span></span></em></strong></li>\n	<li><strong><em><span style="font-family:arial\,sans-serif\;"><span style="font-size:12.0pt\;">U.S. Embassy in Thailand</span></span></em></strong></li>\n	<li><strong><em><span style="font-family:arial\,sans-serif\;"><span style="font-size:12.0pt\;">ASEAN Business Advisory Council (ASEAN-BAC) Thailand</span></span></em></strong></li>\n</ul>\n<em><span style="font-family:arial\,sans-serif\;"><span style="font-size:12.0pt\;">Additional meetings can be requested per mission delegates&#39\; interests and the officials&#39\; availability. Please note that we must have sufficient interest from mission delegates before requesting additional meetings.</span></span></em><br />\n<br />\n<strong><span style="font-family:arial\,sans-serif\;"><span style="font-size:12.0pt\;">Mission Themes:</span></span></strong><br />\n<br />\n<span style="font-family:arial\,sans-serif\;"><span style="font-size:12.0pt\;">We propose that this year&#39\;s mission themes and discussion topics reflect the recommendations in the ASEAN Economic Community (AEC) white paper\, which the Council&#39\;s ASEAN Committee is currently drafting. The Council will share the white paper with member companies once the first draft is finished. In general\, the white paper&#39\;s themes focus on:</span></span>\n\n<ul>\n	<li><span style="font-family:arial\,sans-serif\;"><span style="font-size:12.0pt\;">In response to the current uncertainties in global trade\, advocating for the rapid realization of an ASEAN Single Market and identifying key reforms to help achieve this goal\;</span></span></li>\n	<li><span style="font-family:arial\,sans-serif\;"><span style="font-size:12.0pt\;">Positioning U.S. companies as crucial partners in driving economic integration due to best-in-class thought leadership\, capacity building insight and experience\, and corporate social responsibility efforts\;</span></span></li>\n	<li><span style="font-family:arial\,sans-serif\;"><span style="font-size:12.0pt\;">Ensuring consistent stakeholder engagement on cross-sector issues such as e-commerce\, standards\, trade facilitation\, and smart cities.&nbsp\;</span></span></li>\n</ul>\n<span style="font-family:arial\,sans-serif\;"><span style="font-size:12.0pt\;">Mission participants can propose other mission themes or discussion topics. To do so\, please contact Riley Smith (<a href="mailto:rsmith@usasean.org">rsmith@usasean.org</a>) and Mario Masaya (<a href="mailto:mmasaya@usasean.org">mmasaya@usasean.org</a>). Proposed themes and discussion topics will also be discussed during the pre-mission planning call.<br />\n<br />\nClick <a href="https://www.usasean.org/mission/registration">here</a> to register for the mission.</span></span><br />\n<br />\n&nbsp\;
LOCATION:Bangkok\, Thailand
UID:e.9078.7964
SEQUENCE:3
DTSTAMP:20260424T231526Z
URL:http://memberzone.usasean.org/events/details/2019-business-mission-to-asean-economic-ministers-aem-meeting-7964
END:VEVENT

END:VCALENDAR
