BEGIN:VCALENDAR
VERSION:2.0
PRODID:-//ChamberMaster//Event Calendar 2.0//EN
METHOD:PUBLISH
X-PUBLISHED-TTL:P3D
REFRESH-INTERVAL:P3D
CALSCALE:GREGORIAN
BEGIN:VEVENT
DTSTART:20190902T003000Z
DTEND:20190902T093000Z
X-MICROSOFT-CDO-ALLDAYEVENT:FALSE
SUMMARY:2019 Break The Ceiling Touch The Sky®
DESCRIPTION:Break the ceiling touch the sky - the success and leadership summit for women   \, from House of Rose Professional (HORP) is the worlds fastest growing forum for women in leadership and male champions for diversity enabling leaders from around the world to learn\, network and achieve via editions in the USA\, India\, Middle East\, ANZ\, Singapore. The 2019 WORLD EDITION of the summit\, to be held in Singapore on Sept 2\, 2019 features over 30 inspirational leaders from the worlds best organizations to share with delegates their best practices for success and leadership and an additional 25 international leadership coaches and business leaders supporting HORP's customised mentoring module. Over 550 senior leaders are likely to attend. US-ASEAN BUSINESS COUNCIL is one of a few prestigious INDUSTRY PARTNERS to the summit and members are eligible for the INDUSTRY/NETWORK PARTNER preferential rates for the summit. Sign  up for the summit enables free entry to the evening cocktails and Leonie awards. \n\n\n\nThe theme for this years forum is the FUTURE. Top international trends (AI\, Collaboration between corporate and entrepreneur\, geopolitics\, multiple career paths and succeeding in Singapore and across the world)\, work-life integration\, best case studies of gender diversity and its impact on business\, networking to build powerful networks\, wellness for high performance are some of the topics the experts will share their best techniques on. This year optional workshops will be a key part of the summit.
X-ALT-DESC;FMTTYPE=text/html:<span style="background:white\;"><span style="color:#666666\;"><span style="font-family:open sans\,sans-serif\;"><span style="font-size:10.5pt\;">Break the ceiling touch the sky - the success and leadership summit for women &reg\; \, from House of Rose Professional (HORP) is the worlds fastest growing forum for women in leadership and male champions for diversity enabling leaders from around the world to learn\, network and achieve via editions in the USA\, India\, Middle East\, ANZ\, Singapore. The 2019 WORLD EDITION of the summit\, to be held in Singapore on Sept 2\, 2019 features over 30 inspirational leaders from the worlds best organizations to share with delegates their best practices for success and leadership and an additional 25 international leadership coaches and business leaders supporting HORP&#39\;s customised mentoring module. Over 550 senior leaders are likely to attend. <strong>US-ASEAN BUSINESS COUNCIL</strong>&nbsp\;</span></span></span></span><strong style="box-sizing:border-box\;"><span style="color:#666666\;"><span style="font-family:open sans\,sans-serif\;"><span style="font-size:10.5pt\;">is one of a few prestigious INDUSTRY PARTNERS to the summit and members are eligible for the INDUSTRY/NETWORK PARTNER preferential rates for the summit.</span></span></span></strong><span style="background:white\;"><span style="color:#666666\;"><span style="font-family:open sans\,sans-serif\;"><span style="font-size:10.5pt\;">&nbsp\;Sign&nbsp\;&nbsp\;up for the summit enables free entry to the evening cocktails and Leonie awards.&nbsp\;</span></span></span></span><br />\n<br />\n<span style="background:white\;"><span style="color:#666666\;"><span style="font-family:open sans\,sans-serif\;"><span style="font-size:10.5pt\;">The theme for this years forum is the FUTURE. Top international trends (AI\, Collaboration between corporate and entrepreneur\, geopolitics\, multiple career paths and succeeding in Singapore and across the world)\, work-life integration\, best case studies of gender diversity and its impact on business\, networking to build powerful networks\, wellness for high performance are some of the topics the experts will share their best techniques on. This year optional workshops will be a key part of the summit.&nbsp\;</span></span></span></span>
LOCATION:Venue: Shangri-La hotel\, 22\, Orange Grove\, Singapore.
UID:e.9078.7995
SEQUENCE:3
DTSTAMP:20260425T002407Z
URL:http://memberzone.usasean.org/events/details/2019-break-the-ceiling-touch-the-sky-7995
END:VEVENT

END:VCALENDAR
