BEGIN:VCALENDAR
VERSION:2.0
PRODID:-//ChamberMaster//Event Calendar 2.0//EN
METHOD:PUBLISH
X-PUBLISHED-TTL:P3D
REFRESH-INTERVAL:P3D
CALSCALE:GREGORIAN
BEGIN:VEVENT
DTSTART:20190516T010000Z
DTEND:20190516T080000Z
X-MICROSOFT-CDO-ALLDAYEVENT:FALSE
SUMMARY:2019 ASEAN Multistakeholder (OTT) Dialogue
DESCRIPTION:At the 2018 TELSOM+US Consultation\, the Council proposed supporting ASEAN's efforts to formalize an ASEAN Telecommunications Regulators Council (ATRC) OTT Dialogue\, following the second ATRC OTT Dialogue held from 25-26 June 2018 in Kuala\, Lumpur Malaysia. The institutionaliztion of an ASEAN OTT Dialogue was endorsed at the 2018 Telecommunications and Information Technology Ministers (TELMIN) Meetings\, with the plan for the dialogue to be held bi-annually\, and for the first dialogue to be industry-led. The Dialogue was also re-named to the "ASEAN Multi-Stakeholder Dialogue" to welcome the inclusion of stakeholders outside of the ATRC involved in OTT policymaking. \n\n\n\nThe 2019 ASEAN Multi-Stakeholder Dialogue will take place on May 16\, 2019 from 9:00 AM - 4:00 PM in Singapore. The Dialogue aims to provide a platform for ASEAN telecommunication regulators\, OTT service providers and network service providers to exchange views on the topic of OTT service management and regulation. Around 50 participants from ASEAN regulators\, private sector representatives and subject matter experts such as academic\, think-tanks\, trade associations\, and others are expected to attend the Dialogue.\n\n\n\nPlease contact Shay Wester (swester@usasean.org) and Ella Duangkaew (eduangkaew@usasean.org).
X-ALT-DESC;FMTTYPE=text/html:<span style="font-size:16px\;"><span style="color:#000000\;"><span style="font-family:arial\,sans-serif\;">At the 2018 TELSOM+US Consultation\, the Council proposed supporting ASEAN&#39\;s efforts to formalize an ASEAN Telecommunications Regulators Council (ATRC) OTT Dialogue\, following the second ATRC OTT Dialogue held from 25-26 June 2018 in Kuala\, Lumpur Malaysia. The institutionaliztion of an ASEAN OTT Dialogue was endorsed at the 2018 Telecommunications and Information Technology Ministers (TELMIN) Meetings\, with the plan for the dialogue to be held bi-annually\, and for the first dialogue to be industry-led. The Dialogue was also re-named to the &quot\;ASEAN Multi-Stakeholder Dialogue&quot\; to welcome the inclusion of stakeholders outside of the ATRC involved in OTT policymaking.&nbsp\;</span><br />\n<br />\n<span style="font-family: arial\,sans-serif\;">The 2019 ASEAN Multi-Stakeholder Dialogue will take place on May 16\, 2019 from 9:00 AM - 4:00 PM in Singapore. The Dialogue aims to provide a platform for ASEAN telecommunication regulators\, OTT service providers and network service providers to exchange views on the topic of OTT service management and regulation.&nbsp\;Around 50 participants from ASEAN&nbsp\;regulators\, private sector representatives&nbsp\;and subject matter experts such as academic\, think-tanks\, trade associations\, and others are expected to attend the Dialogue.</span><br />\n<br />\n<span style="font-family:arial\,sans-serif\;">Please contact Shay Wester (</span></span><span style="font-family:calibri\,sans-serif\;"><a><span style="color:#000000\;"><span style="font-family:arial\,sans-serif\;">swester@usasean.org</span></span></a></span><span style="color:#000000\;"><span style="font-family:arial\,sans-serif\;">) and Ella Duangkaew (</span></span><span style="font-family:calibri\,sans-serif\;"><a><span style="color:#000000\;"><span style="font-family:arial\,sans-serif\;">eduangkaew@usasean.org</span></span></a></span><span style="color:#000000\;"><span style="font-family:arial\,sans-serif\;">).&nbsp\;</span></span></span>
LOCATION:Coriander Room Shaw Foundation Alumni House National University of Singapore 11 Kent Ridge Drive Singapore 119244
UID:e.9078.7833
SEQUENCE:3
DTSTAMP:20260422T025602Z
URL:http://memberzone.usasean.org/events/details/2019-asean-multistakeholder-ott-dialogue-7833
END:VEVENT

END:VCALENDAR
