BEGIN:VCALENDAR
VERSION:2.0
PRODID:-//ChamberMaster//Event Calendar 2.0//EN
METHOD:PUBLISH
X-PUBLISHED-TTL:P3D
REFRESH-INTERVAL:P3D
CALSCALE:GREGORIAN
BEGIN:VEVENT
DTSTART:20190619T220000Z
DTEND:20190620T010000Z
X-MICROSOFT-CDO-ALLDAYEVENT:FALSE
SUMMARY:2019 Annual Gala - 35th Anniversary (sponsors)
DESCRIPTION:The US-ASEAN Business Council invites you to celebrate 35 years of elevating and improving the U.S.-ASEAN economic\, trade and investment relationship and broadening U.S. support for Southeast Asia.  The dinner will bring together business\, academic\, thought and government leadership from ASEAN and the United States and will include many of those who have led the charge over the past 35 years.
X-ALT-DESC;FMTTYPE=text/html:<span style="font-family: arial\,sans-serif\;"><span style="font-size: 12pt\;">The US-ASEAN Business Council invites you to celebrate 35 years of elevating and improving the U.S.-ASEAN economic\, trade and investment relationship and broadening U.S. support for Southeast Asia. &nbsp\;The dinner will bring together business\, academic\, thought and government leadership from ASEAN and the United States and will include many of those who have led the charge over the past 35 years.</span></span>
LOCATION:The Four Seasons Hotel 2800 Pennsylvania Avenue\, NW Washington\, D.C.
UID:e.9078.7771
SEQUENCE:3
DTSTAMP:20260424T231550Z
URL:http://memberzone.usasean.org/events/details/2019-annual-gala-35th-anniversary-sponsors-7771
END:VEVENT

END:VCALENDAR
