BEGIN:VCALENDAR
VERSION:2.0
PRODID:-//ChamberMaster//Event Calendar 2.0//EN
METHOD:PUBLISH
X-PUBLISHED-TTL:P3D
REFRESH-INTERVAL:P3D
CALSCALE:GREGORIAN
BEGIN:VEVENT
DTSTART;VALUE=DATE:20171206
DTEND;VALUE=DATE:20171209
TRANSP:TRANSPARENT
X-MICROSOFT-CDO-ALLDAYEVENT:TRUE
SUMMARY:2017 Myanmar Business Mission
DESCRIPTION:Requested meetings include: President U Htin Kyaw\, State Counsellor Daw Aung San Suu Kyi\, Key Cabinet Ministers\, Members of Parliament including Speaker of the Pyithu Hluttaw (Lower House) U Win Myint\, Myanmar Investment Commission\, and the UMFCCI.\n\n\n\nPlease contact Jack Myint at jmyint@usasean.org with any questions or to express interest.
X-ALT-DESC;FMTTYPE=text/html:<span style="font-family:arial\,sans-serif\;"><span style="font-size:12.0pt\;">Requested meetings include: President U Htin Kyaw\, State Counsellor Daw Aung San Suu Kyi\, Key Cabinet Ministers\, Members of Parliament including Speaker of the Pyithu Hluttaw (Lower House) U Win Myint\,&nbsp\;Myanmar Investment Commission\, and the UMFCCI.<br />\n<br />\nPlease contact Jack Myint at <a href="mailto:jmyint@usasean.org">jmyint@usasean.org</a> with any questions or to express interest.</span></span>
LOCATION:Naypyitaw and Yangon\, Myanmar
UID:e.9078.4090
SEQUENCE:3
DTSTAMP:20260419T145844Z
URL:http://memberzone.usasean.org/events/details/2017-myanmar-business-mission-4090
END:VEVENT

END:VCALENDAR
