BEGIN:VCALENDAR
VERSION:2.0
PRODID:-//ChamberMaster//Event Calendar 2.0//EN
METHOD:PUBLISH
X-PUBLISHED-TTL:P3D
REFRESH-INTERVAL:P3D
CALSCALE:GREGORIAN
BEGIN:VEVENT
DTSTART:20150429T003000Z
DTEND:20150429T013000Z
X-MICROSOFT-CDO-ALLDAYEVENT:FALSE
SUMMARY:2015 Singapore Committee Quarterly Conference Call (April 2015)
DESCRIPTION:Singapore Committee Quarterly Conference Call
X-ALT-DESC;FMTTYPE=text/html:Singapore Committee Quarterly Conference Call
LOCATION:Conference Call Dial in details will be provided to all registered participants
UID:e.9078.1535
SEQUENCE:3
DTSTAMP:20260419T171856Z
URL:http://memberzone.usasean.org/events/details/2015-singapore-committee-quarterly-conference-call-april-2015-04-28-2015-1535
END:VEVENT

END:VCALENDAR
