BEGIN:VCALENDAR
VERSION:2.0
PRODID:-//ChamberMaster//Event Calendar 2.0//EN
METHOD:PUBLISH
X-PUBLISHED-TTL:P3D
REFRESH-INTERVAL:P3D
CALSCALE:GREGORIAN
BEGIN:VEVENT
DTSTART;VALUE=DATE:20150305
DTEND;VALUE=DATE:20150306
TRANSP:TRANSPARENT
X-MICROSOFT-CDO-ALLDAYEVENT:TRUE
SUMMARY:2015 Food & Agriculture Industry Mission to Thailand\, March 5
DESCRIPTION:
X-ALT-DESC;FMTTYPE=text/html:
LOCATION:
UID:e.9078.1369
SEQUENCE:3
DTSTAMP:20260419T190136Z
URL:http://memberzone.usasean.org/events/details/2015-food-agriculture-industry-mission-to-thailand-march-5-03-05-2015-1369
END:VEVENT

END:VCALENDAR
