BEGIN:VCALENDAR
VERSION:2.0
PRODID:-//ChamberMaster//Event Calendar 2.0//EN
METHOD:PUBLISH
X-PUBLISHED-TTL:P3D
REFRESH-INTERVAL:P3D
CALSCALE:GREGORIAN
BEGIN:VEVENT
DTSTART;VALUE=DATE:20150225
DTEND;VALUE=DATE:20150226
TRANSP:TRANSPARENT
X-MICROSOFT-CDO-ALLDAYEVENT:TRUE
SUMMARY:2015 Food & Agriculture Committee Quarterly Conference Call (Washington D.C.)
DESCRIPTION:
X-ALT-DESC;FMTTYPE=text/html:
LOCATION:
UID:e.9078.1470
SEQUENCE:3
DTSTAMP:20260419T203735Z
URL:http://memberzone.usasean.org/events/details/2015-food-agriculture-committee-quarterly-conference-call-washington-d-c-02-25-2015-1470
END:VEVENT

END:VCALENDAR
