BEGIN:VCALENDAR
VERSION:2.0
PRODID:-//ChamberMaster//Event Calendar 2.0//EN
METHOD:PUBLISH
X-PUBLISHED-TTL:P3D
REFRESH-INTERVAL:P3D
CALSCALE:GREGORIAN
BEGIN:VEVENT
DTSTART:20150225T020000Z
DTEND:20150225T030000Z
X-MICROSOFT-CDO-ALLDAYEVENT:FALSE
SUMMARY:2015 Food & Agriculture Committee Quarterly Conference Call
DESCRIPTION:2015 Food & Agriculture Committee Quarterly Conference Call
X-ALT-DESC;FMTTYPE=text/html:2015 Food &amp\; Agriculture Committee Quarterly Conference Call
LOCATION:
UID:e.9078.1469
SEQUENCE:3
DTSTAMP:20260419T203807Z
URL:http://memberzone.usasean.org/events/details/2015-food-agriculture-committee-quarterly-conference-call-02-24-2015-1469
END:VEVENT

END:VCALENDAR
