BEGIN:VCALENDAR
VERSION:2.0
PRODID:-//ChamberMaster//Event Calendar 2.0//EN
METHOD:PUBLISH
X-PUBLISHED-TTL:P3D
REFRESH-INTERVAL:P3D
CALSCALE:GREGORIAN
BEGIN:VEVENT
DTSTART;VALUE=DATE:20150507
DTEND;VALUE=DATE:20150509
TRANSP:TRANSPARENT
X-MICROSOFT-CDO-ALLDAYEVENT:TRUE
SUMMARY:2015 Cambodia Business Mission
DESCRIPTION:2015 Senior Executive Business Mission to Cambodia
X-ALT-DESC;FMTTYPE=text/html:<span style="font-family: arial\; font-size: 16px\; line-height: 25.6000003814697px\;">2015 Senior Executive Business Mission to Cambodia&nbsp\;</span>
LOCATION:Phnom Penh
UID:e.9078.1516
SEQUENCE:3
DTSTAMP:20260419T132635Z
URL:http://memberzone.usasean.org/events/details/2015-cambodia-business-mission-05-07-2015-1516
END:VEVENT

END:VCALENDAR
