BEGIN:VCALENDAR
VERSION:2.0
PRODID:-//ChamberMaster//Event Calendar 2.0//EN
METHOD:PUBLISH
X-PUBLISHED-TTL:P3D
REFRESH-INTERVAL:P3D
CALSCALE:GREGORIAN
BEGIN:VEVENT
DTSTART:20150213T023000Z
DTEND:20150214T033000Z
X-MICROSOFT-CDO-ALLDAYEVENT:FALSE
SUMMARY:2015 ASEAN Finance Ministers Meeting Planning Call 1
DESCRIPTION:Please join Financial Services Committee members on the first of three conference calls to plan for our attendance of the 2015 ASEAN Finance Ministers Meeting in Kuala Lumpur\, Malaysia.  Call participants will discuss:\n\n\n	Mission objectives and benefits\n	Attendance logistics\n	Themes to address in our working luncheon with the 10 ASEAN ministers of finance on March 21\n	Priority bilateral meeting requests for March 19 and 20\n\nFinancial Services Committee members who wish to attend attend the AFMM can register online here and download the required supplemental mission registration form here.
X-ALT-DESC;FMTTYPE=text/html:<p style="font-family: arial\, helvetica\, sans-serif\; font-size: 16px\; line-height: 24px\;">Please join Financial Services Committee members on the first of three conference calls to plan for our attendance of the 2015 ASEAN Finance Ministers Meeting&nbsp\;in Kuala Lumpur\, Malaysia. &nbsp\;Call participants&nbsp\;will discuss:</p>\n\n<ul style="font-family: arial\, helvetica\, sans-serif\; font-size: 16px\; line-height: 24px\;">\n	<li>Mission objectives and benefits</li>\n	<li>Attendance logistics</li>\n	<li>Themes to address in our working luncheon with the 10 ASEAN ministers of finance on March 21</li>\n	<li>Priority bilateral meeting requests for March 19 and 20</li>\n</ul>\n<span style="font-family: arial\, helvetica\, sans-serif\; font-size: 16px\; line-height: 24px\;">Financial Services Committee members who wish to attend attend the&nbsp\;</span>AFMM<span style="font-family: arial\, helvetica\, sans-serif\; font-size: 16px\; line-height: 24px\;">&nbsp\;can register online&nbsp\;</span><a href="http://usasean.memberzone.com/events/details/2015-asean-finance-ministers-meeting-1474" style="font-family: arial\, helvetica\, sans-serif\; font-size: 16px\; line-height: 24px\;">here</a><span style="font-family: arial\, helvetica\, sans-serif\; font-size: 16px\; line-height: 24px\;">&nbsp\;and download the required supplemental mission registration form&nbsp\;</span><a href="http://cloud.chambermaster.com/userfiles/UserFiles/chambers/9078/File/2015AFMMMissionRegistrationandPaymentForm.docx" style="font-family: arial\, helvetica\, sans-serif\; font-size: 16px\; line-height: 24px\;">here</a><span style="font-family: arial\, helvetica\, sans-serif\; font-size: 16px\; line-height: 24px\;">.</span>
LOCATION:
UID:e.9078.1480
SEQUENCE:3
DTSTAMP:20260419T203700Z
URL:http://memberzone.usasean.org/events/details/2015-asean-finance-ministers-meeting-planning-call-1-02-12-2015-1480
END:VEVENT

END:VCALENDAR
