BEGIN:VCALENDAR
VERSION:2.0
PRODID:-//ChamberMaster//Event Calendar 2.0//EN
METHOD:PUBLISH
X-PUBLISHED-TTL:P3D
REFRESH-INTERVAL:P3D
CALSCALE:GREGORIAN
BEGIN:VEVENT
DTSTART;VALUE=DATE:20150319
DTEND;VALUE=DATE:20150322
TRANSP:TRANSPARENT
X-MICROSOFT-CDO-ALLDAYEVENT:TRUE
SUMMARY:2015 ASEAN Finance Ministers Meeting
DESCRIPTION:The US-ASEAN Business Council is registering senior-level executives for its annual attendance of the ASEAN Finance Minister's Meeting from March 19-21\, 2015. This year's meeting will take place in Kuala Lumpur\, Malaysia.\n\n\n\nASEAN's 10 member countries acknowledge financial services integration and regional capital markets development are critical components of the December 2015 implementation of the ASEAN Economic Community (AEC). The Council's mission to this year's ASEAN Finance Ministers Meeting is an ideal opportunity for Financial Services Committee members to support and shape regional governments' policies aimed at increasing the attractiveness of ASEAN's capital markets as a global asset class.  With the formal implementation of the AEC less than one year from now\, our visit comes at an opportune time for mutually beneficial exchanges on creating public-private collaboration to solidify ASEAN-wide financial development.
X-ALT-DESC;FMTTYPE=text/html:<span style="font-size: 14px\;"><span style="color: rgb(0\, 0\, 0)\; line-height: 1.5\;"><span style="letter-spacing: 0.75pt\;">The US-ASEAN Business Council is registering senior-level executives for its annual attendance of&nbsp\;the ASEAN Finance Minister&#39\;s Meeting from&nbsp\;March 19-21\, 2015. This year&#39\;s meeting will take place in Kuala Lumpur\, Malaysia.</span></span><br style="color: rgb(0\, 0\, 0)\; line-height: 24px\; font-family: arial\, helvetica\, sans-serif\; font-size: 16px\;" />\n<br style="color: rgb(0\, 0\, 0)\; line-height: 24px\; font-family: arial\, helvetica\, sans-serif\; font-size: 16px\;" />\n<span style="color: rgb(0\, 0\, 0)\; line-height: 1.5\;"><span style="letter-spacing: 0.75pt\;">ASEAN&rsquo\;s 10 member countries acknowledge financial services integration and regional capital markets development&nbsp\;are critical components of the December 2015&nbsp\;implementation of the ASEAN Economic Community (AEC). The Council&rsquo\;s mission to this year&#39\;s ASEAN Finance Ministers&nbsp\;Meeting is an ideal opportunity for Financial Services Committee&nbsp\;members to support and shape regional governments&rsquo\; policies aimed at increasing the attractiveness of ASEAN&rsquo\;s capital markets as a global asset class. &nbsp\;With the formal implementation of the AEC less than one year from now\, our visit comes&nbsp\;at an opportune time for mutually beneficial exchanges on creating public-private collaboration to solidify ASEAN-wide&nbsp\;financial development.</span></span></span>
LOCATION:Kuala Lumpur\, Malaysia
UID:e.9078.1474
SEQUENCE:3
DTSTAMP:20260419T185944Z
URL:http://memberzone.usasean.org/events/details/2015-asean-finance-ministers-meeting-03-19-2015-1474
END:VEVENT

END:VCALENDAR
