BEGIN:VCALENDAR
VERSION:2.0
PRODID:-//ChamberMaster//Event Calendar 2.0//EN
METHOD:PUBLISH
X-PUBLISHED-TTL:P3D
REFRESH-INTERVAL:P3D
CALSCALE:GREGORIAN
BEGIN:VEVENT
DTSTART;VALUE=DATE:20141103
DTEND;VALUE=DATE:20141105
TRANSP:TRANSPARENT
X-MICROSOFT-CDO-ALLDAYEVENT:TRUE
SUMMARY:2014 Thailand Business Mission
DESCRIPTION:The Council's annual Business Mission to Thailand.
X-ALT-DESC;FMTTYPE=text/html:The Council&#39\;s annual Business Mission to Thailand.&nbsp\;
LOCATION:Bangkok\, Thailand
UID:e.9078.1272
SEQUENCE:3
DTSTAMP:20260420T020502Z
URL:http://memberzone.usasean.org/events/details/2014-thailand-business-mission-11-03-2014-1272
END:VEVENT

END:VCALENDAR
