BEGIN:VCALENDAR
VERSION:2.0
PRODID:-//ChamberMaster//Event Calendar 2.0//EN
METHOD:PUBLISH
X-PUBLISHED-TTL:P3D
REFRESH-INTERVAL:P3D
CALSCALE:GREGORIAN
BEGIN:VEVENT
DTSTART:20140220T020000Z
DTEND:20140220T030000Z
X-MICROSOFT-CDO-ALLDAYEVENT:FALSE
SUMMARY:2014 Singapore Business Mission Conference Call
DESCRIPTION:2014 Singapore Business Mission Conference Call\n\n\n\nWashington: Wednesday\, February 19\, 9:00PM\n\nSingapore: Thursday\, February 20\, 10:00AM
X-ALT-DESC;FMTTYPE=text/html:<span style="font-family: arial\;"><span style="font-size: 16px\;">2014 Singapore Business Mission Conference Call</span></span><br />\n<br />\n<span style="font-family: arial\;"><span style="font-size: 16px\;">Washington: Wednesday\, February 19\, 9:00PM<br />\nSingapore: Thursday\, February 20\, 10:00AM</span></span>
LOCATION:Please register for call in details
UID:e.9078.1043
SEQUENCE:3
DTSTAMP:20260421T042526Z
URL:http://memberzone.usasean.org/events/details/2014-singapore-business-mission-conference-call-02-19-2014-1043
END:VEVENT

END:VCALENDAR
