BEGIN:VCALENDAR
VERSION:2.0
PRODID:-//ChamberMaster//Event Calendar 2.0//EN
METHOD:PUBLISH
X-PUBLISHED-TTL:P3D
REFRESH-INTERVAL:P3D
CALSCALE:GREGORIAN
BEGIN:VEVENT
DTSTART;VALUE=DATE:20140327
DTEND;VALUE=DATE:20140329
TRANSP:TRANSPARENT
X-MICROSOFT-CDO-ALLDAYEVENT:TRUE
SUMMARY:2014 Senior Executives Singapore Business Mission
DESCRIPTION:2014 Senior Executives Business Mission to Singapore
X-ALT-DESC;FMTTYPE=text/html:<span style="font-family:arial\;">2014 Senior Executives Business Mission to Singapore</span>
LOCATION:Singapore
UID:e.9078.999
SEQUENCE:3
DTSTAMP:20260420T171938Z
URL:http://memberzone.usasean.org/events/details/2014-senior-executives-singapore-business-mission-03-27-2014-999
END:VEVENT

END:VCALENDAR
