BEGIN:VCALENDAR
VERSION:2.0
PRODID:-//ChamberMaster//Event Calendar 2.0//EN
METHOD:PUBLISH
X-PUBLISHED-TTL:P3D
REFRESH-INTERVAL:P3D
CALSCALE:GREGORIAN
BEGIN:VEVENT
DTSTART:20140722T013000Z
DTEND:20140722T023000Z
X-MICROSOFT-CDO-ALLDAYEVENT:FALSE
SUMMARY:2014 Myanmar Business Mission - First Conference Call
DESCRIPTION:Please join us for the first conference call to discuss the upcoming 2014 Myanmar Business Mission with Ambassador Derek Mitchell. During the call we will discuss the Council's upcoming Business Mission to Naypitaw and Yangon\, July 30 - August 1\, 2014. If you have a topic for discussion please submit ahead of the call to Anthony Nelson at anelson@usasean.org.
X-ALT-DESC;FMTTYPE=text/html:<span style="font-family: arial\,sans-serif\;"><span style="font-size: 12pt\;">Please join us for the first conference call to discuss the upcoming 2014 Myanmar Business Mission with Ambassador Derek Mitchell. During the call we will discuss the Council's upcoming Business Mission to Naypitaw and Yangon\, July 30 - August 1\, 2014. If you have a topic for discussion please submit ahead of the call to Anthony Nelson at <a href="mailto:anelson@usasean.org">anelson@usasean.org.&nbsp\;</a></span></span>
LOCATION:
UID:e.9078.1194
SEQUENCE:3
DTSTAMP:20260420T085752Z
URL:http://memberzone.usasean.org/events/details/2014-myanmar-business-mission-first-conference-call-07-21-2014-1194
END:VEVENT

END:VCALENDAR
