BEGIN:VCALENDAR
VERSION:2.0
PRODID:-//ChamberMaster//Event Calendar 2.0//EN
METHOD:PUBLISH
X-PUBLISHED-TTL:P3D
REFRESH-INTERVAL:P3D
CALSCALE:GREGORIAN
BEGIN:VEVENT
DTSTART:20140905T013000Z
DTEND:20140905T023000Z
X-MICROSOFT-CDO-ALLDAYEVENT:FALSE
SUMMARY:2014 Malaysia Business Mission Final Call | September 4\, 2014
DESCRIPTION:If you are joining the Business Mission to Malaysia we encourage you to dial in to learn more about the mission themes\, agenda\, and logistics in our final pre-mission call.  We will be reviewing the agenda and asking for additional feedback as to what other activities could be included to strengthen the mission.
X-ALT-DESC;FMTTYPE=text/html:If you are joining the Business Mission to Malaysia we encourage you to dial in to learn more about the mission themes\, agenda\, and logistics in our final pre-mission call.&nbsp\; We will be reviewing the agenda and asking for additional feedback as to what other activities could be included to strengthen the mission.&nbsp\;
LOCATION:Toll-free dial-in number (U.S. and Canada): (877) 505-1427 International dial-in number: (281) 319-9194 Conference code: 6853245105
UID:e.9078.1250
SEQUENCE:3
DTSTAMP:20260420T052512Z
URL:http://memberzone.usasean.org/events/details/2014-malaysia-business-mission-final-call-september-4-2014-09-04-2014-1250
END:VEVENT

END:VCALENDAR
