BEGIN:VCALENDAR
VERSION:2.0
PRODID:-//ChamberMaster//Event Calendar 2.0//EN
METHOD:PUBLISH
X-PUBLISHED-TTL:P3D
REFRESH-INTERVAL:P3D
CALSCALE:GREGORIAN
BEGIN:VEVENT
DTSTART;VALUE=DATE:20141022
DTEND;VALUE=DATE:20141024
TRANSP:TRANSPARENT
X-MICROSOFT-CDO-ALLDAYEVENT:TRUE
SUMMARY:2014 Business Mission to the Philippines
DESCRIPTION:Please join us for our annual 2014 Senior Executives Business Mission to the Philippines
X-ALT-DESC;FMTTYPE=text/html:Please join us for our annual 2014 Senior Executives Business Mission to the Philippines
LOCATION:Manila\, Philippines
UID:e.9078.1242
SEQUENCE:3
DTSTAMP:20260420T035020Z
URL:http://memberzone.usasean.org/events/details/2014-business-mission-to-the-philippines-10-22-2014-1242
END:VEVENT

END:VCALENDAR
