BEGIN:VCALENDAR
VERSION:2.0
PRODID:-//ChamberMaster//Event Calendar 2.0//EN
METHOD:PUBLISH
X-PUBLISHED-TTL:P3D
REFRESH-INTERVAL:P3D
CALSCALE:GREGORIAN
BEGIN:VEVENT
DTSTART;VALUE=DATE:20140403
DTEND;VALUE=DATE:20140406
TRANSP:TRANSPARENT
X-MICROSOFT-CDO-ALLDAYEVENT:TRUE
SUMMARY:2014 ASEAN Finance Ministers' Meeting
DESCRIPTION:2014 ASEAN Finance Ministers' Meeting
X-ALT-DESC;FMTTYPE=text/html:2014 ASEAN Finance Ministers&#39\; Meeting
LOCATION:Nay Pyi Taw\, Myanmar
UID:e.9078.1034
SEQUENCE:3
DTSTAMP:20260420T153049Z
URL:http://memberzone.usasean.org/events/details/2014-asean-finance-ministers-meeting-04-03-2014-1034
END:VEVENT

END:VCALENDAR
