BEGIN:VCALENDAR
VERSION:2.0
PRODID:-//ChamberMaster//Event Calendar 2.0//EN
METHOD:PUBLISH
X-PUBLISHED-TTL:P3D
REFRESH-INTERVAL:P3D
CALSCALE:GREGORIAN
BEGIN:VEVENT
DTSTART;VALUE=DATE:20140603
DTEND;VALUE=DATE:20140606
TRANSP:TRANSPARENT
X-MICROSOFT-CDO-ALLDAYEVENT:TRUE
SUMMARY:2014 ASEAN Customs Directors-General Meeting
DESCRIPTION:ASEAN Customs Directors-General Mission\, June 3-5\, 2014
X-ALT-DESC;FMTTYPE=text/html:<span class="mn-event-content">ASEAN Customs Directors-General Mission\, June 3-5\, 2014</span>
LOCATION:Dalat Palace Luxury Hotel 02 Tran Phu Street Dalat\, Vietnam
UID:e.9078.1138
SEQUENCE:3
DTSTAMP:20260420T102614Z
URL:http://memberzone.usasean.org/events/details/2014-asean-customs-directors-general-meeting-06-03-2014-1138
END:VEVENT

END:VCALENDAR
