BEGIN:VCALENDAR
VERSION:2.0
PRODID:-//ChamberMaster//Event Calendar 2.0//EN
METHOD:PUBLISH
X-PUBLISHED-TTL:P3D
REFRESH-INTERVAL:P3D
CALSCALE:GREGORIAN
BEGIN:VEVENT
DTSTART;VALUE=DATE:20130318
DTEND;VALUE=DATE:20130319
TRANSP:TRANSPARENT
X-MICROSOFT-CDO-ALLDAYEVENT:TRUE
SUMMARY:2013 Senior Executives Mission to Brunei Darussalam
DESCRIPTION:Brunei is active\, engaged\, and prepared for their 2013 ASEAN Chairmanship. Coming from the intersection of AEC\, RCEP\, TPP\, and APEC\, Brunei has developed its capacity to be flexible and agile in navigating through sensitive issues. In particular\, Brunei is very keen on partnering with the private sector to achieve mutually beneficial outcomes for the ASEAN Community and leverage to "punch above its weight." Brunei's chairmanship theme\, "Our People\, Our Future Together\," is a one indication that community building and greater cooperation will be a policy priority for 2013.
X-ALT-DESC;FMTTYPE=text/html:Brunei is active\, engaged\, and prepared for their 2013 ASEAN Chairmanship. Coming from the intersection of AEC\, RCEP\, TPP\, and APEC\, Brunei has developed its capacity to be flexible and agile in navigating through sensitive issues. In particular\, Brunei is very keen on partnering with the private sector to achieve mutually beneficial outcomes for the ASEAN Community and leverage to &ldquo\;punch above its weight.&rdquo\; Brunei&rsquo\;s chairmanship theme\, &ldquo\;Our People\, Our Future Together\,&rdquo\; is a one indication that community building and greater cooperation will be a policy priority for 2013.
LOCATION:Bandar Seri Begawan\, Brunei Darussalam
UID:e.9078.669
SEQUENCE:3
DTSTAMP:20260422T081052Z
URL:http://memberzone.usasean.org/events/details/2013-senior-executives-mission-to-brunei-darussalam-03-18-2013-669
END:VEVENT

END:VCALENDAR
