BEGIN:VCALENDAR
VERSION:2.0
PRODID:-//ChamberMaster//Event Calendar 2.0//EN
METHOD:PUBLISH
X-PUBLISHED-TTL:P3D
REFRESH-INTERVAL:P3D
CALSCALE:GREGORIAN
BEGIN:VEVENT
DTSTART:20131108T020000Z
DTEND:20131109T030000Z
X-MICROSOFT-CDO-ALLDAYEVENT:FALSE
SUMMARY:2013 Business Mission to Malaysia - Second Conference Call
DESCRIPTION:Toll-free dial-in number (U.S. and Canada):\n\n(877) 505-1427\n\n\n\nInternational dial-in number:\n\n(281) 319-9194\n\n\n\nConference code: \n\n6853245105
X-ALT-DESC;FMTTYPE=text/html:<strong><span style="font-family:arial\,sans-serif\;"><span style="font-size:12.0pt\;">Toll-free dial-in number (U.S. and Canada):</span></span></strong><br />\n<span style="font-family:arial\,sans-serif\;"><span style="font-size:12.0pt\;">(877) 505-1427<br />\n<br />\n<strong>International dial-in number:</strong><br />\n(281) 319-9194<br />\n<br />\n<strong>Conference code: </strong><br />\n6853245105</span></span>
LOCATION:
UID:e.9078.970
SEQUENCE:3
DTSTAMP:20260421T093226Z
URL:http://memberzone.usasean.org/events/details/2013-business-mission-to-malaysia-second-conference-call-11-07-2013-970
END:VEVENT

END:VCALENDAR
