BEGIN:VCALENDAR
VERSION:2.0
PRODID:-//ChamberMaster//Event Calendar 2.0//EN
METHOD:PUBLISH
X-PUBLISHED-TTL:P3D
REFRESH-INTERVAL:P3D
CALSCALE:GREGORIAN
BEGIN:VEVENT
DTSTART;VALUE=DATE:20131120
DTEND;VALUE=DATE:20131123
TRANSP:TRANSPARENT
X-MICROSOFT-CDO-ALLDAYEVENT:TRUE
SUMMARY:2013 Business Mission to Malaysia
DESCRIPTION:
X-ALT-DESC;FMTTYPE=text/html:
LOCATION:Kuala Lumpur\, Malaysia
UID:e.9078.792
SEQUENCE:3
DTSTAMP:20260421T093706Z
URL:http://memberzone.usasean.org/events/details/2013-business-mission-to-malaysia-11-20-2013-792
END:VEVENT

END:VCALENDAR
