BEGIN:VCALENDAR
VERSION:2.0
PRODID:-//ChamberMaster//Event Calendar 2.0//EN
METHOD:PUBLISH
X-PUBLISHED-TTL:P3D
REFRESH-INTERVAL:P3D
CALSCALE:GREGORIAN
BEGIN:VEVENT
DTSTART;VALUE=DATE:20131111
DTEND;VALUE=DATE:20131114
TRANSP:TRANSPARENT
X-MICROSOFT-CDO-ALLDAYEVENT:TRUE
SUMMARY:2013 Business Mission to Indonesia
DESCRIPTION:The US-ASEAN Business Council is now registering senior-level executives for its 2013 Business Mission to Indonesia.  The mission will take place Monday - Wednesday\, November 11-13\, 2013.\n\n				 \n		\n		\n			\n				 \n		\n		\n			\n				Meetings:\n\n				\n\n				The following meetings will be proposed. Companies are welcome to suggest other meetings:  \n\n				\n					\n						President Susilo Bambang Yudhoyono\n					\n						Coordinating Minister for Economic Affairs\n					\n						Ministry for Finance\n					\n						The Investment Coordinating Board (BKPM)\n					\n						Ministry of Trade\n					\n						Ministry of Industry\n					\n						Ministry ICT\n					\n						Ministry of Energy\n					\n						Bank Indonesia\n					\n						Ministry of Defense\n					\n						Ministry of Transportation\n					\n						Ministry of State-owned Enterprises\n					\n						Ministry of Manpower and Transmigration\n					\n						KADIN/APINDO B2B engagement (e.g. luncheon\, or reception). \n					\n						Governor of Jakarta\n				\n				 \n\n				Discussions will also be organized with the U.S. Embassy team and key US government agencies in Jakarta.\n\n				\n\n				Meetings with other officials could be added according to members' interests and the officials' availability. Please note that we must have interest in any specific meeting from multiple members in order to make the proper meeting request of the official.\n\n				\n\n				We also welcome members' suggestions regarding meetings with other private sector associations or organizations that could be included in our mission agenda. \n\n				\n\n				Registration Instructions:\n\n				Companies are required to submit the documents listed below.  It is acceptable to submit your registration and payment form and follow up with the requested documents shortly afterwards.      \n\n				\n\n				The deadline for submission of registration and ALL mission materials is November 1\, 2013.  Timely submissions are requested and appreciated.  \n\n				If your company would like to participate in the 2013 Indonesia Business Mission please submit the following to Caroline at ctanjaya@usasean.org\n\n				\n					\n						Registration and payment form (available for download here)\n					\n						Biographies of member delegates in Word format \n					\n						Company profile in Word format \n					\n						Company logo in print quality format \n					\n						Briefing paper on current challenges\, issues and/or questions about doing business in Indonesia. \n					\n						Submission of company Corporate Social Responsibility/Corporate Citizenship and/or training and technical assistance projects in the Indonesia. The appropriate template for this document can be downloaded here. (If you would like a sample submission\, please contact Fon Wanlapa at fwanlapa@usasean.org). \n				\n				\n\n				\n\n				\n\n				We hope that you are able to join us for this year's Business Mission to Indonesia.  We look forward to seeing you there! \n\n				\n\n				For questions please contact Desi Indrimayutri at desi@usasean.org or Caroline Tanjaya at ctanjaya@usasean.org
X-ALT-DESC;FMTTYPE=text/html:<table align="center" border="0" cellpadding="0" cellspacing="0">\n	<tbody>\n		<tr>\n			<td style="padding: 0in\; border: rgb(0\, 0\, 0)\;">\n				<span style="font-size: 16px\;"><span style="font-family: arial\;"><strong><span style="letter-spacing: 0.75pt\;">The US-ASEAN Business Council is now registering senior-level executives for its&nbsp\;2013 Business Mission to Indonesia.&nbsp\; The mission will take place&nbsp\;Monday - Wednesday\, November 11-13\, 2013.</span></strong></span></span><br />\n				&nbsp\;</td>\n		</tr>\n		<tr>\n			<td style="padding: 7.5pt 0in\; border: rgb(0\, 0\, 0)\;">\n				&nbsp\;</td>\n		</tr>\n		<tr>\n			<td style="padding: 0in\; border: rgb(0\, 0\, 0)\;">\n				<span style="font-size: 16px\;"><span style="font-family: arial\;"><strong><span style="letter-spacing: 0.75pt\;">Meetings:</span></strong><br />\n				<br />\n				<span style="letter-spacing: 0.75pt\;">The following meetings&nbsp\;will be&nbsp\;proposed. Companies are welcome to suggest other meetings:&nbsp\;</span> </span></span><br />\n				<ul>\n					<li>\n						<span style="font-size: 16px\;"><span style="font-family: arial\;">President Susilo Bambang Yudhoyono</span></span></li>\n					<li>\n						<span style="font-size: 16px\;"><span style="font-family: arial\;">Coordinating Minister for Economic Affairs</span></span></li>\n					<li>\n						<span style="font-size: 16px\;"><span style="font-family: arial\;">Ministry for Finance</span></span></li>\n					<li>\n						<span style="font-size: 16px\;"><span style="font-family: arial\;">The Investment Coordinating Board (BKPM)</span></span></li>\n					<li>\n						<span style="font-size: 16px\;"><span style="font-family: arial\;">Ministry of Trade</span></span></li>\n					<li>\n						<span style="font-size: 16px\;"><span style="font-family: arial\;">Ministry of Industry</span></span></li>\n					<li>\n						<span style="font-size: 16px\;"><span style="font-family: arial\;">Ministry ICT</span></span></li>\n					<li>\n						<span style="font-size: 16px\;"><span style="font-family: arial\;">Ministry of Energy</span></span></li>\n					<li>\n						<span style="font-size: 16px\;"><span style="font-family: arial\;">Bank Indonesia</span></span></li>\n					<li>\n						<span style="font-size: 16px\;"><span style="font-family: arial\;">Ministry of Defense</span></span></li>\n					<li>\n						<span style="font-size: 16px\;"><span style="font-family: arial\;">Ministry of Transportation</span></span></li>\n					<li>\n						<span style="font-size: 16px\;"><span style="font-family: arial\;">Ministry of State-owned Enterprises</span></span></li>\n					<li>\n						<span style="font-size: 16px\;"><span style="font-family: arial\;">Ministry of Manpower and Transmigration</span></span></li>\n					<li>\n						<span style="font-size: 16px\;"><span style="font-family: arial\;">KADIN/APINDO B2B engagement (e.g. luncheon\, or reception). </span></span></li>\n					<li>\n						<span style="font-size: 16px\;"><span style="font-family: arial\;">Governor of Jakarta</span></span></li>\n				</ul>\n				<span style="font-size: 16px\;"><span style="font-family: arial\;">&nbsp\;<br />\n				<span style="letter-spacing: 0.75pt\;">Discussions&nbsp\;will also be organized with the U.S. Embassy team&nbsp\;and key US government agencies in Jakarta.</span><br />\n				<br />\n				<span style="letter-spacing: 0.75pt\;">Meetings with other&nbsp\;officials could be added according to members&#39\; interests and the officials&#39\; availability. Please note that we must have interest in any specific meeting from multiple members in order to make the proper meeting request of the official.<br />\n				<br />\n				We also welcome members&#39\; suggestions&nbsp\;regarding meetings with other private sector associations or organizations that could be included in our mission agenda. </span><br />\n				<br />\n				<strong><span style="letter-spacing: 0.75pt\;">Registration Instructions:</span></strong><br />\n				<span style="letter-spacing: 0.75pt\;">Companies are required to submit the documents listed below.&nbsp\; It is acceptable to submit your registration and payment form and follow up with the requested documents shortly afterwards.&nbsp\;&nbsp\;&nbsp\;&nbsp\;&nbsp\;&nbsp\;</span><br />\n				<br />\n				<strong><span style="letter-spacing: 0.75pt\;">The deadline for submission of registration and ALL mission materials is November 1\, 2013.&nbsp\; Timely submissions are requested and appreciated.&nbsp\;&nbsp\;</span></strong><br />\n				<span style="letter-spacing: 0.75pt\;">If your company would like to participate in the 2013 Indonesia Business Mission please submit the following to Caroline at </span><a href="mailto:ctanjaya@usasean.org" moz-do-not-send="true"><span style="letter-spacing: 0.75pt\;"><span style="color: rgb(0\, 0\, 255)\;">ctanjaya@usasean.org</span></span></a></span></span><br />\n				<ol>\n					<li>\n						<span style="font-size: 16px\;"><span style="font-family: arial\;"><span style="letter-spacing: 0.75pt\;">Registration and payment form&nbsp\;(<a href="http://cloud.chambermaster.com/userfiles/UserFiles/chambers/9078/File/2013SeniorExecutivesMissiontoIndonesia1.docx" moz-do-not-send="true"><span style="color: rgb(0\, 0\, 255)\;">available for download here</span></a></span>)</span></span></li>\n					<li>\n						<span style="font-size: 16px\;"><span style="font-family: arial\;"><span style="letter-spacing: 0.75pt\;">Biographies of member delegates in Word format&nbsp\;</span></span></span></li>\n					<li>\n						<span style="font-size: 16px\;"><span style="font-family: arial\;"><span style="letter-spacing: 0.75pt\;">Company profile in Word format&nbsp\;</span></span></span></li>\n					<li>\n						<span style="font-size: 16px\;"><span style="font-family: arial\;"><span style="letter-spacing: 0.75pt\;">Company logo in print quality format&nbsp\;</span></span></span></li>\n					<li>\n						<span style="font-size: 16px\;"><span style="font-family: arial\;"><span style="letter-spacing: 0.75pt\;">Briefing paper on current challenges\, issues and/or questions about doing business in Indonesia.&nbsp\;</span></span></span></li>\n					<li>\n						<span style="font-size: 16px\;"><span style="font-family: arial\;"><span style="letter-spacing: 0.75pt\;">Submission of company Corporate Social Responsibility/Corporate Citizenship and/or training and technical assistance projects in the Indonesia. The appropriate template for this document can be <a href="http://cloud.chambermaster.com/userfiles/UserFiles/chambers/9078/File/CorporateSocialResponsibilityReport2013_INDONESIA.pptx">downloaded here</a>. (If you would like a sample submission\, please contact Fon Wanlapa at </span><a href="mailto:fwanlapa@usasean.org" moz-do-not-send="true"><span style="letter-spacing: 0.75pt\;"><span style="color: rgb(0\, 0\, 255)\;">fwanlapa@usasean.org</span></span></a><span style="letter-spacing: 0.75pt\;">). </span></span></span></li>\n				</ol>\n				<br />\n				<br />\n				<br />\n				<span style="font-size: 16px\;"><span style="font-family: arial\;"><span style="letter-spacing: 0.75pt\;">We hope that you are able to join us for this year&#39\;s Business Mission to Indonesia.&nbsp\; We look forward to seeing you there!&nbsp\;<br />\n				<br />\n				For questions please contact Desi Indrimayutri at </span><a href="mailto:questions%20about%20Indonesia%20Mission" moz-do-not-send="true"><span style="color: rgb(0\, 0\, 255)\;">desi@usasean.org</span></a> or Caroline Tanjaya at <a href="mailto:ctanjaya@usasean.org" moz-do-not-send="true"><span style="color: rgb(0\, 0\, 255)\;">ctanjaya@usasean.org</span></a><br />\n				&#65279\;&#65279\;&#65279\;&nbsp\;</span></span></td>\n		</tr>\n	</tbody>\n</table>\n<div style="clear: both\;">\n	&nbsp\;</div>\n
LOCATION:Jakarta\, Indonesia
UID:e.9078.824
SEQUENCE:3
DTSTAMP:20260421T110807Z
URL:http://memberzone.usasean.org/events/details/2013-business-mission-to-indonesia-11-11-2013-824
END:VEVENT

END:VCALENDAR
