BEGIN:VCALENDAR
VERSION:2.0
PRODID:-//ChamberMaster//Event Calendar 2.0//EN
METHOD:PUBLISH
X-PUBLISHED-TTL:P3D
REFRESH-INTERVAL:P3D
CALSCALE:GREGORIAN
BEGIN:VEVENT
DTSTART:20130913T133000Z
DTEND:20130913T153000Z
X-MICROSOFT-CDO-ALLDAYEVENT:FALSE
SUMMARY:2013 APEC CEO Summit and US. APEC Business Coalition Events Preview
DESCRIPTION:The U.S. APEC Business Coalition would like to invite you to join members of the U.S. business community on September 13th for a preview of the CEO Summit and the U.S. APEC Business Coalition events that will take place during the APEC Economic Leaders week from October 5-7\, 2013 in Bali\, Indonesia.
X-ALT-DESC;FMTTYPE=text/html:The U.S. APEC Business Coalition would like to invite you to join members of the U.S. business community on September 13th for a preview of the CEO Summit and the U.S. APEC Business Coalition events that will take place during the APEC Economic Leaders week from October 5-7\, 2013 in Bali\, Indonesia.&nbsp\;
LOCATION:U.S. Chamber of Commerce Briefing Center Room 1615 H Street NW Washington\, DC 20062
UID:e.9078.910
SEQUENCE:3
DTSTAMP:20260421T173755Z
URL:http://memberzone.usasean.org/events/details/2013-apec-ceo-summit-and-us-apec-business-coalition-events-preview-09-13-2013-910
END:VEVENT

END:VCALENDAR
