BEGIN:VCALENDAR
VERSION:2.0
PRODID:-//ChamberMaster//Event Calendar 2.0//EN
METHOD:PUBLISH
X-PUBLISHED-TTL:P3D
REFRESH-INTERVAL:P3D
CALSCALE:GREGORIAN
BEGIN:VEVENT
DTSTART:20130930T120000Z
DTEND:20130930T180000Z
X-MICROSOFT-CDO-ALLDAYEVENT:FALSE
SUMMARY:2013 ACW Golf Tournament
DESCRIPTION:The US-ASEAN Business Council will host this year's annual ASEAN Committee in Washington (ACW) Golf Tournament at Worthington Manor Golf Club in Urbana\, Maryland.  This is an opportunity to socialize with the ASEAN Ambassadors and embassy officials.
X-ALT-DESC;FMTTYPE=text/html:<span style="font-family:arial\;"><span style="font-size: 12px\;">The US-ASEAN Business Council will host this year&#39\;s annual ASEAN Committee in Washington (ACW) Golf Tournament at Worthington Manor Golf Club in Urbana\, Maryland.&nbsp\; This is an opportunity to socialize with the ASEAN Ambassadors and embassy officials. </span></span>
LOCATION:
UID:e.9078.913
SEQUENCE:3
DTSTAMP:20260421T173507Z
URL:http://memberzone.usasean.org/events/details/2013-acw-golf-tournament-09-30-2013-913
END:VEVENT

END:VCALENDAR
