BEGIN:VCALENDAR
VERSION:2.0
PRODID:-//ChamberMaster//Event Calendar 2.0//EN
METHOD:PUBLISH
X-PUBLISHED-TTL:P3D
REFRESH-INTERVAL:P3D
CALSCALE:GREGORIAN
BEGIN:VEVENT
DTSTART;VALUE=DATE:20120911
DTEND;VALUE=DATE:20120914
TRANSP:TRANSPARENT
X-MICROSOFT-CDO-ALLDAYEVENT:TRUE
SUMMARY:2012 Mission to the ASEAN Ministers of Energy Meetings - Sep 11 2012
DESCRIPTION:
X-ALT-DESC;FMTTYPE=text/html:
LOCATION:
UID:e.9078.309
SEQUENCE:3
DTSTAMP:20260424T205410Z
URL:http://memberzone.usasean.org/events/details/2012-mission-to-the-asean-ministers-of-energy-meetings-sep-11-2012-09-11-2012-309
END:VEVENT

END:VCALENDAR
