BEGIN:VCALENDAR
VERSION:2.0
PRODID:-//ChamberMaster//Event Calendar 2.0//EN
METHOD:PUBLISH
X-PUBLISHED-TTL:P3D
REFRESH-INTERVAL:P3D
CALSCALE:GREGORIAN
BEGIN:VEVENT
DTSTART;VALUE=DATE:20120824
DTEND;VALUE=DATE:20120825
TRANSP:TRANSPARENT
X-MICROSOFT-CDO-ALLDAYEVENT:TRUE
SUMMARY:2012 ASEAN Ambassadors' Golf Outing - Friday\, August 24 - Aug 24 2012
DESCRIPTION:
X-ALT-DESC;FMTTYPE=text/html:
LOCATION:
UID:e.9078.306
SEQUENCE:3
DTSTAMP:20260424T221458Z
URL:http://memberzone.usasean.org/events/details/2012-asean-ambassadors-golf-outing-friday-august-24-aug-24-2012-08-24-2012-306
END:VEVENT

END:VCALENDAR
